BEGIN:VCALENDAR
VERSION:2.0
PRODID:-//jEvents 2.0 for Joomla//EN
CALSCALE:GREGORIAN
METHOD:PUBLISH
BEGIN:VTIMEZONE
TZID:America/New_York
BEGIN:STANDARD
DTSTART:20161106T010000
RDATE:20170312T030000
TZOFFSETFROM:-0400
TZOFFSETTO:-0500
TZNAME:America/New_York EST
END:STANDARD
BEGIN:STANDARD
DTSTART:20171105T010000
RDATE:20180311T030000
TZOFFSETFROM:-0400
TZOFFSETTO:-0500
TZNAME:America/New_York EST
END:STANDARD
BEGIN:STANDARD
DTSTART:20181104T010000
RDATE:20190310T030000
TZOFFSETFROM:-0400
TZOFFSETTO:-0500
TZNAME:America/New_York EST
END:STANDARD
BEGIN:STANDARD
DTSTART:20191103T010000
RDATE:20200308T030000
TZOFFSETFROM:-0400
TZOFFSETTO:-0500
TZNAME:America/New_York EST
END:STANDARD
BEGIN:STANDARD
DTSTART:20201101T010000
RDATE:20210314T030000
TZOFFSETFROM:-0400
TZOFFSETTO:-0500
TZNAME:America/New_York EST
END:STANDARD
BEGIN:STANDARD
DTSTART:20211107T010000
RDATE:20220313T030000
TZOFFSETFROM:-0400
TZOFFSETTO:-0500
TZNAME:America/New_York EST
END:STANDARD
BEGIN:STANDARD
DTSTART:20221106T010000
RDATE:20230312T030000
TZOFFSETFROM:-0400
TZOFFSETTO:-0500
TZNAME:America/New_York EST
END:STANDARD
BEGIN:STANDARD
DTSTART:20231105T010000
RDATE:20240310T030000
TZOFFSETFROM:-0400
TZOFFSETTO:-0500
TZNAME:America/New_York EST
END:STANDARD
BEGIN:STANDARD
DTSTART:20241103T010000
RDATE:20250309T030000
TZOFFSETFROM:-0400
TZOFFSETTO:-0500
TZNAME:America/New_York EST
END:STANDARD
BEGIN:STANDARD
DTSTART:20251102T010000
RDATE:20260308T030000
TZOFFSETFROM:-0400
TZOFFSETTO:-0500
TZNAME:America/New_York EST
END:STANDARD
BEGIN:STANDARD
DTSTART:20261101T010000
RDATE:20270314T030000
TZOFFSETFROM:-0400
TZOFFSETTO:-0500
TZNAME:America/New_York EST
END:STANDARD
BEGIN:STANDARD
DTSTART:20271107T010000
RDATE:20280312T030000
TZOFFSETFROM:-0400
TZOFFSETTO:-0500
TZNAME:America/New_York EST
END:STANDARD
BEGIN:STANDARD
DTSTART:20281105T010000
RDATE:20290311T030000
TZOFFSETFROM:-0400
TZOFFSETTO:-0500
TZNAME:America/New_York EST
END:STANDARD
BEGIN:DAYLIGHT
DTSTART:20160811T130000
RDATE:20161106T010000
TZOFFSETFROM:-0500
TZOFFSETTO:-0400
TZNAME:America/New_York EDT
END:DAYLIGHT
BEGIN:DAYLIGHT
DTSTART:20170312T030000
RDATE:20171105T010000
TZOFFSETFROM:-0500
TZOFFSETTO:-0400
TZNAME:America/New_York EDT
END:DAYLIGHT
BEGIN:DAYLIGHT
DTSTART:20180311T030000
RDATE:20181104T010000
TZOFFSETFROM:-0500
TZOFFSETTO:-0400
TZNAME:America/New_York EDT
END:DAYLIGHT
BEGIN:DAYLIGHT
DTSTART:20190310T030000
RDATE:20191103T010000
TZOFFSETFROM:-0500
TZOFFSETTO:-0400
TZNAME:America/New_York EDT
END:DAYLIGHT
BEGIN:DAYLIGHT
DTSTART:20200308T030000
RDATE:20201101T010000
TZOFFSETFROM:-0500
TZOFFSETTO:-0400
TZNAME:America/New_York EDT
END:DAYLIGHT
BEGIN:DAYLIGHT
DTSTART:20210314T030000
RDATE:20211107T010000
TZOFFSETFROM:-0500
TZOFFSETTO:-0400
TZNAME:America/New_York EDT
END:DAYLIGHT
BEGIN:DAYLIGHT
DTSTART:20220313T030000
RDATE:20221106T010000
TZOFFSETFROM:-0500
TZOFFSETTO:-0400
TZNAME:America/New_York EDT
END:DAYLIGHT
BEGIN:DAYLIGHT
DTSTART:20230312T030000
RDATE:20231105T010000
TZOFFSETFROM:-0500
TZOFFSETTO:-0400
TZNAME:America/New_York EDT
END:DAYLIGHT
BEGIN:DAYLIGHT
DTSTART:20240310T030000
RDATE:20241103T010000
TZOFFSETFROM:-0500
TZOFFSETTO:-0400
TZNAME:America/New_York EDT
END:DAYLIGHT
BEGIN:DAYLIGHT
DTSTART:20250309T030000
RDATE:20251102T010000
TZOFFSETFROM:-0500
TZOFFSETTO:-0400
TZNAME:America/New_York EDT
END:DAYLIGHT
BEGIN:DAYLIGHT
DTSTART:20260308T030000
RDATE:20261101T010000
TZOFFSETFROM:-0500
TZOFFSETTO:-0400
TZNAME:America/New_York EDT
END:DAYLIGHT
BEGIN:DAYLIGHT
DTSTART:20270314T030000
RDATE:20271107T010000
TZOFFSETFROM:-0500
TZOFFSETTO:-0400
TZNAME:America/New_York EDT
END:DAYLIGHT
BEGIN:DAYLIGHT
DTSTART:20280312T030000
RDATE:20281105T010000
TZOFFSETFROM:-0500
TZOFFSETTO:-0400
TZNAME:America/New_York EDT
END:DAYLIGHT
END:VTIMEZONE
BEGIN:VEVENT
UID:18733079930650a36d92d8e892b7f5a5
CATEGORIES:Testing
CREATED:20161112T214402
SUMMARY:Monthly Rank Testing Rules
DESCRIPTION;ENCODING=QUOTED-PRINTABLE:<table border="0" style="border: medium; width: 630px; height: 72px; color:
  #000000; line-height: 21px; font-size: 14px; border-collapse: collapse; ma
 x-width: 100%; border-spacing: 0px; background-color: #f7f7f7;" cellspacing
 ="0" cellpadding="0"><tbody><tr style="border: medium; text-align: center; 
 line-height: 1.5em;"><td style="border: medium; line-height: 1.5em;"><div s
 tyle="border: medium; line-height: 1.5em;">All students need to complete th
 e Rank Advancement Application before 7 days Testing Date Check in with the
  testing official at least 30 minutes before Scheduled time Students are re
 sponsible for their own warm-up Rank Testing</div></td></tr><tr style="bord
 er: medium; line-height: 1.5em;"><td style="border: medium; line-height: 1.
 5em;"><div style="border: medium; text-align: center; line-height: 1.5em;">
 Location: 2979 Prosperity Avenue, Fairfax, VA 22031&nbsp;</div></td></tr></
 tbody></table><table style="width: 628px; height: 35px; margin-right: auto;
 " cellspacing="0" cellpadding="0"><tbody><tr><td style="text-align: center;
 "><h3 style="text-align: center;"><span style="color: #660000;">2017&nbsp;S
 cheduled Rank Testing</span></h3>&nbsp;</td></tr></tbody></table><table sty
 le="border: medium; width: 627px; height: 89px; color: #000000; line-height
 : 21px; font-size: 14px; margin-right: auto; border-collapse: collapse; max
 -width: 100%; border-spacing: 0px; background-color: #f7f7f7;" cellspacing=
 "0" cellpadding="0"><tbody><tr style="border: medium; line-height: 1.5em;">
 <td><div>January 14</div></td><td><div>February 11</div></td><td><div>March
  4</div></td></tr><tr style="border: medium; line-height: 1.5em;"><td><div>
 April 1</div></td><td><div>May 13</div></td><td><div>June 3</div></td></tr>
 <tr style="border: medium; line-height: 1.5em;"><td><div>July 8</div></td><
 td><div>August 12</div></td><td><div>September 9</div></td></tr><tr style="
 border: medium; line-height: 1.5em;"><td><div>October 14</div></td><td><div
 >November 18</div></td><td><div>Decemer 19</div></td></tr></tbody></table><
 table border="0" style="border: medium; width: 627px; height: 615px; color:
  #000000; line-height: 21px; font-size: 14px; border-collapse: collapse; ma
 x-width: 100%; border-spacing: 0px; background-color: #f7f7f7;"><tbody><tr 
 style="border: medium; line-height: 1.5em;"><td style="border: medium; heig
 ht: 26px; text-align: center; line-height: 1.5em;"><p><strong><span style="
 font-size: medium;">Testing at US Wushu Academy&nbsp;</span></strong></p></
 td></tr><tr style="border: medium; line-height: 1.5em;"><td style="border: 
 medium; height: 600px; line-height: 1.5em;">Testing at US Wushu Academy Eve
 ry month a select group USWA students appear before the school's testing bo
 ard to demonstrate their readiness to exchange their belts for new ones, sy
 mbolizing the next level of expertise.Following the concept instituted by t
 he Beijing Wushu Team, Academy students first earn their belt stripes and, 
 once the training coach makes the determination that individual students ar
 e qualified for testing, they are then recommended to the board. The school
  does not conduct block examinations; instead, each student is tested accor
 ding to his or her particular skill level. As the Academy continues to grow
 , the number of instructors and judges is expected to increase in the near 
 future as well, and they will play a more active role in testing.Coach Pei 
 will continue to attend the examination ceremonies, but he probably will no
 t directly take part in judging students. The goal is to encourage other in
 structors to become involved in the process, place greater responsibilities
  on senior students, and ensure continuity in the school.&nbsp; <br /> Inst
 ructors will be held accountable for the student's preparedness to be teste
 d and her or his ability to meet the challenge successfully. A student fail
 s to pass the examination when he or she does not meet the scoring criteria
 Testing at US Wushu Academy corresponding to the rank and skill necessary t
 o advance to the next level.The higher the rank, the higher the score that 
 the student is expected to attain. Moreover, the test score should be indic
 ative of the student's relative competitiveness, in that it also reflects t
 he score he or she is likely to receive in the course of a competition. In 
 other words, if a student has scored 8.5 in a school test and knows that a 
 rival competitor has a 9.0 score, it is clear that skills will have to be i
 mproved significantly before he or she is ready to engage in a competition.
 &nbsp;The successful student will demonstrate skill in performing the form,
  proper attitude, and familiarity with the examination protocol. The number
  of students tested every month varies, but rarely exceeds 20, and the time
  scheduled for the entire group does not go beyond two and one half hours. 
 Unlike some schools, US Wushu Academy does not have fixed testing schedules
  for students because progress in skills depends on personal abilities and 
 class attendance frequency.&nbsp;Classes at the Academy cannot be compared 
 with regular school classes where students are expected to be present every
  day; the US Wushu Academy student comes whenever he or she has time for tr
 aining. Moreover, testing only when the coach is confident that the student
  is prepared to pass the test successfully is financially more advantageous
  to the student, who is spared from incurring testing fee expenses three or
  four times a year.The Academy has a flat fee for all examinations and does
  not follow the practice in some schools, where costs increase as students 
 advance to more senior skill levels. The youngest students to be tested at 
 the USWA are five year olds who undergo the same procedures and protocols a
 s adult students. However, it is the responsibility of the instructor to en
 sure that the child is ready, qualified, and that he or she will pass succe
 ssfully.&nbsp;For example, if the passing requirement for white belt is a s
 core of 5.0, the instructor must be confident that the student is at least 
 at the level of 5.5, so that when performing before the testing board, he o
 r she will do so with a margin for error that should help him or her make t
 he passing grade. Junior Taijiquan and Wushu students will be tested by sen
 ior US Wushu Academy black belt instructors certified by the Academy, who w
 ill be applying exactly the same judging criteria that are used by the Inte
 rnational Wushu Federation.</td></tr></tbody></table>
DTSTAMP:20260425T110744Z
DTSTART;TZID=America/New_York:20170812T130000
DTEND;TZID=America/New_York:20170812T140000
SEQUENCE:0
TRANSP:OPAQUE
END:VEVENT
END:VCALENDAR