BEGIN:VCALENDAR
VERSION:2.0
PRODID:-//jEvents 2.0 for Joomla//EN
CALSCALE:GREGORIAN
METHOD:PUBLISH
BEGIN:VTIMEZONE
TZID:America/New_York
BEGIN:STANDARD
DTSTART:20161106T010000
RDATE:20170312T030000
TZOFFSETFROM:-0400
TZOFFSETTO:-0500
TZNAME:America/New_York EST
END:STANDARD
BEGIN:STANDARD
DTSTART:20171105T010000
RDATE:20180311T030000
TZOFFSETFROM:-0400
TZOFFSETTO:-0500
TZNAME:America/New_York EST
END:STANDARD
BEGIN:STANDARD
DTSTART:20181104T010000
RDATE:20190310T030000
TZOFFSETFROM:-0400
TZOFFSETTO:-0500
TZNAME:America/New_York EST
END:STANDARD
BEGIN:STANDARD
DTSTART:20191103T010000
RDATE:20200308T030000
TZOFFSETFROM:-0400
TZOFFSETTO:-0500
TZNAME:America/New_York EST
END:STANDARD
BEGIN:STANDARD
DTSTART:20201101T010000
RDATE:20210314T030000
TZOFFSETFROM:-0400
TZOFFSETTO:-0500
TZNAME:America/New_York EST
END:STANDARD
BEGIN:STANDARD
DTSTART:20211107T010000
RDATE:20220313T030000
TZOFFSETFROM:-0400
TZOFFSETTO:-0500
TZNAME:America/New_York EST
END:STANDARD
BEGIN:STANDARD
DTSTART:20221106T010000
RDATE:20230312T030000
TZOFFSETFROM:-0400
TZOFFSETTO:-0500
TZNAME:America/New_York EST
END:STANDARD
BEGIN:STANDARD
DTSTART:20231105T010000
RDATE:20240310T030000
TZOFFSETFROM:-0400
TZOFFSETTO:-0500
TZNAME:America/New_York EST
END:STANDARD
BEGIN:STANDARD
DTSTART:20241103T010000
RDATE:20250309T030000
TZOFFSETFROM:-0400
TZOFFSETTO:-0500
TZNAME:America/New_York EST
END:STANDARD
BEGIN:STANDARD
DTSTART:20251102T010000
RDATE:20260308T030000
TZOFFSETFROM:-0400
TZOFFSETTO:-0500
TZNAME:America/New_York EST
END:STANDARD
BEGIN:STANDARD
DTSTART:20261101T010000
RDATE:20270314T030000
TZOFFSETFROM:-0400
TZOFFSETTO:-0500
TZNAME:America/New_York EST
END:STANDARD
BEGIN:STANDARD
DTSTART:20271107T010000
RDATE:20280312T030000
TZOFFSETFROM:-0400
TZOFFSETTO:-0500
TZNAME:America/New_York EST
END:STANDARD
BEGIN:STANDARD
DTSTART:20281105T010000
RDATE:20290311T030000
TZOFFSETFROM:-0400
TZOFFSETTO:-0500
TZNAME:America/New_York EST
END:STANDARD
BEGIN:DAYLIGHT
DTSTART:20160812T100000
RDATE:20161106T010000
TZOFFSETFROM:-0500
TZOFFSETTO:-0400
TZNAME:America/New_York EDT
END:DAYLIGHT
BEGIN:DAYLIGHT
DTSTART:20170312T030000
RDATE:20171105T010000
TZOFFSETFROM:-0500
TZOFFSETTO:-0400
TZNAME:America/New_York EDT
END:DAYLIGHT
BEGIN:DAYLIGHT
DTSTART:20180311T030000
RDATE:20181104T010000
TZOFFSETFROM:-0500
TZOFFSETTO:-0400
TZNAME:America/New_York EDT
END:DAYLIGHT
BEGIN:DAYLIGHT
DTSTART:20190310T030000
RDATE:20191103T010000
TZOFFSETFROM:-0500
TZOFFSETTO:-0400
TZNAME:America/New_York EDT
END:DAYLIGHT
BEGIN:DAYLIGHT
DTSTART:20200308T030000
RDATE:20201101T010000
TZOFFSETFROM:-0500
TZOFFSETTO:-0400
TZNAME:America/New_York EDT
END:DAYLIGHT
BEGIN:DAYLIGHT
DTSTART:20210314T030000
RDATE:20211107T010000
TZOFFSETFROM:-0500
TZOFFSETTO:-0400
TZNAME:America/New_York EDT
END:DAYLIGHT
BEGIN:DAYLIGHT
DTSTART:20220313T030000
RDATE:20221106T010000
TZOFFSETFROM:-0500
TZOFFSETTO:-0400
TZNAME:America/New_York EDT
END:DAYLIGHT
BEGIN:DAYLIGHT
DTSTART:20230312T030000
RDATE:20231105T010000
TZOFFSETFROM:-0500
TZOFFSETTO:-0400
TZNAME:America/New_York EDT
END:DAYLIGHT
BEGIN:DAYLIGHT
DTSTART:20240310T030000
RDATE:20241103T010000
TZOFFSETFROM:-0500
TZOFFSETTO:-0400
TZNAME:America/New_York EDT
END:DAYLIGHT
BEGIN:DAYLIGHT
DTSTART:20250309T030000
RDATE:20251102T010000
TZOFFSETFROM:-0500
TZOFFSETTO:-0400
TZNAME:America/New_York EDT
END:DAYLIGHT
BEGIN:DAYLIGHT
DTSTART:20260308T030000
RDATE:20261101T010000
TZOFFSETFROM:-0500
TZOFFSETTO:-0400
TZNAME:America/New_York EDT
END:DAYLIGHT
BEGIN:DAYLIGHT
DTSTART:20270314T030000
RDATE:20271107T010000
TZOFFSETFROM:-0500
TZOFFSETTO:-0400
TZNAME:America/New_York EDT
END:DAYLIGHT
BEGIN:DAYLIGHT
DTSTART:20280312T030000
RDATE:20281105T010000
TZOFFSETFROM:-0500
TZOFFSETTO:-0400
TZNAME:America/New_York EDT
END:DAYLIGHT
END:VTIMEZONE
BEGIN:VEVENT
UID:21dcc1f9c47138b713128c69c5dff994
CATEGORIES:Testing
CREATED:20170813T021505
SUMMARY:USWA August Rank Testing
LOCATION:at USWA VA Academy 
DESCRIPTION;ENCODING=QUOTED-PRINTABLE:\n\nRank Testing \nAugust 13, 2017\n\n\n10:00 AM Open for Warm-Up\n\n\n11:0
 0 AM Wushu Rank Test Begins\n\n\nWushu Individual Form\n\n\nAline Nguyen-Tr
 ang &nbsp; &nbsp; Changquan\n Jocelyn Gu &nbsp; &nbsp; &nbsp; &nbsp; &nbsp;
  &nbsp; &nbsp; &nbsp; &nbsp; Changquan\n Michelle Hsiung &nbsp; &nbsp; &nbs
 p; &nbsp; &nbsp; Changquan\n Timonthy Nguyen-Trang Changquan \n Vincent Zho
 ng &nbsp; &nbsp; &nbsp; &nbsp; &nbsp; &nbsp; Changquan\n\n\nWushu Basic\nTe
 am One\n\n\nWang Yining\n Alvin Wang\n Brook Yin\n Jenny Zheng\n Xzavier To
 rrijon\n Peter Guo\n\n\nTeam Two \n\n\nJulie Liu\n Cai Yuchen\n Chandul Som
 aweera\n Tyson Liu\n\n\nWushu Individual Form\n\n\nTyson Liu &nbsp; &nbsp; 
 &nbsp; &nbsp; &nbsp; &nbsp; &nbsp; &nbsp; &nbsp; Basic Form\n Chandul Somaw
 eera Basic Form\n Cai Yuchen &nbsp; &nbsp; &nbsp; &nbsp; &nbsp; &nbsp; &nbs
 p; &nbsp;Basic Form\n Julie Liu &nbsp; &nbsp; &nbsp; &nbsp; &nbsp; &nbsp; &
 nbsp; &nbsp; &nbsp; &nbsp; Basic Form\n Kylie Zhang &nbsp; &nbsp; &nbsp; &n
 bsp; &nbsp; &nbsp; &nbsp; Basic Form\n Maggie Wu &nbsp; &nbsp; &nbsp; &nbsp
 ; &nbsp; &nbsp; &nbsp; &nbsp;Basic Form\n Angela Wang &nbsp; &nbsp; &nbsp; 
 &nbsp; &nbsp; &nbsp; Basic Form\n Ethan Mao &nbsp; &nbsp; &nbsp; &nbsp; &nb
 sp; &nbsp; &nbsp; &nbsp; Basic Form\n Zachary Karp &nbsp; &nbsp; &nbsp; &nb
 sp; &nbsp; &nbsp; Basic Form\n Aline Nguyen-Trang &nbsp; Spear\n Jocelyn Gu
  &nbsp; &nbsp; &nbsp; &nbsp; &nbsp; &nbsp; &nbsp; &nbsp; Spear\n Michelle H
 siung &nbsp; &nbsp; &nbsp; &nbsp; Spear\n Timonthy Nguyen-Trang Staff\n Vin
 cent Zhong &nbsp; &nbsp; &nbsp; &nbsp; &nbsp; Staff\nKylie Zhang &nbsp; &nb
 sp; &nbsp; &nbsp; &nbsp; &nbsp; &nbsp; Basic Staff\n Maggie Wu &nbsp; &nbsp
 ; &nbsp; &nbsp; &nbsp; &nbsp; &nbsp; &nbsp;Basic Staff\n Angela Wang &nbsp;
  &nbsp; &nbsp; &nbsp; &nbsp; &nbsp; Basic Staff\n Ethan Mao &nbsp; &nbsp; &
 nbsp; &nbsp; &nbsp; &nbsp; &nbsp; &nbsp; Basic Staff\n Zachary Karp &nbsp; 
 &nbsp; &nbsp; &nbsp; &nbsp; &nbsp; Basic Staff\n Jenny Zheng &nbsp; &nbsp; 
 &nbsp; &nbsp; &nbsp; &nbsp; &nbsp;Basic Broadsword\n Brook Yin &nbsp; &nbsp
 ; &nbsp; &nbsp; &nbsp; &nbsp; &nbsp; &nbsp; &nbsp; Changquan\n Alvin Wang &
 nbsp; &nbsp; &nbsp; &nbsp; &nbsp; &nbsp; &nbsp; &nbsp;Spear\n Wang Yining &
 nbsp; &nbsp; &nbsp; &nbsp; &nbsp; &nbsp; &nbsp;Sword\nKylie Zhang &nbsp; &n
 bsp; &nbsp; &nbsp; &nbsp; &nbsp; &nbsp; &nbsp;Basic Sword\n Maggie Wu &nbsp
 ; &nbsp; &nbsp; &nbsp; &nbsp; &nbsp; &nbsp; &nbsp; Basic Sword\n Ethan Mao 
 &nbsp; &nbsp; &nbsp; &nbsp; &nbsp; &nbsp; &nbsp; &nbsp; &nbsp;Basic Sword\n
  Zachary Karp &nbsp; &nbsp; &nbsp; &nbsp; &nbsp; &nbsp; &nbsp;Basic Sword\n
  Angela Wang &nbsp; &nbsp; &nbsp; &nbsp; &nbsp; &nbsp; Basic Broadsword\nAl
 ine Nguyen-Trang &nbsp; Sword\n Jocelyn Gu &nbsp; &nbsp; &nbsp; &nbsp; &nbs
 p; &nbsp; &nbsp; &nbsp; &nbsp;Sword\n Michelle Hsiung &nbsp; &nbsp; &nbsp; 
 &nbsp; &nbsp;Sword\n Timonthy Nguyen-Trang &nbsp;Staff\n Vincent Zhong &nbs
 p; &nbsp; &nbsp; &nbsp; &nbsp; &nbsp; &nbsp; &nbsp; Staff\n\n\nNew Wushu Ra
 nk Ceremony\n
DTSTAMP:20260425T110523Z
DTSTART;TZID=America/New_York:20170813T100000
DTEND;TZID=America/New_York:20170813T130000
SEQUENCE:0
TRANSP:OPAQUE
END:VEVENT
END:VCALENDAR