BEGIN:VCALENDAR
VERSION:2.0
PRODID:-//jEvents 2.0 for Joomla//EN
CALSCALE:GREGORIAN
METHOD:PUBLISH
BEGIN:VTIMEZONE
TZID:America/New_York
BEGIN:STANDARD
DTSTART:20201101T010000
RDATE:20210314T030000
TZOFFSETFROM:-0400
TZOFFSETTO:-0500
TZNAME:America/New_York EST
END:STANDARD
BEGIN:STANDARD
DTSTART:20211107T010000
RDATE:20220313T030000
TZOFFSETFROM:-0400
TZOFFSETTO:-0500
TZNAME:America/New_York EST
END:STANDARD
BEGIN:STANDARD
DTSTART:20221106T010000
RDATE:20230312T030000
TZOFFSETFROM:-0400
TZOFFSETTO:-0500
TZNAME:America/New_York EST
END:STANDARD
BEGIN:STANDARD
DTSTART:20231105T010000
RDATE:20240310T030000
TZOFFSETFROM:-0400
TZOFFSETTO:-0500
TZNAME:America/New_York EST
END:STANDARD
BEGIN:STANDARD
DTSTART:20241103T010000
RDATE:20250309T030000
TZOFFSETFROM:-0400
TZOFFSETTO:-0500
TZNAME:America/New_York EST
END:STANDARD
BEGIN:STANDARD
DTSTART:20251102T010000
RDATE:20260308T030000
TZOFFSETFROM:-0400
TZOFFSETTO:-0500
TZNAME:America/New_York EST
END:STANDARD
BEGIN:STANDARD
DTSTART:20261101T010000
RDATE:20270314T030000
TZOFFSETFROM:-0400
TZOFFSETTO:-0500
TZNAME:America/New_York EST
END:STANDARD
BEGIN:STANDARD
DTSTART:20271107T010000
RDATE:20280312T030000
TZOFFSETFROM:-0400
TZOFFSETTO:-0500
TZNAME:America/New_York EST
END:STANDARD
BEGIN:STANDARD
DTSTART:20281105T010000
RDATE:20290311T030000
TZOFFSETFROM:-0400
TZOFFSETTO:-0500
TZNAME:America/New_York EST
END:STANDARD
BEGIN:DAYLIGHT
DTSTART:20200918T150000
RDATE:20201101T010000
TZOFFSETFROM:-0500
TZOFFSETTO:-0400
TZNAME:America/New_York EDT
END:DAYLIGHT
BEGIN:DAYLIGHT
DTSTART:20210314T030000
RDATE:20211107T010000
TZOFFSETFROM:-0500
TZOFFSETTO:-0400
TZNAME:America/New_York EDT
END:DAYLIGHT
BEGIN:DAYLIGHT
DTSTART:20220313T030000
RDATE:20221106T010000
TZOFFSETFROM:-0500
TZOFFSETTO:-0400
TZNAME:America/New_York EDT
END:DAYLIGHT
BEGIN:DAYLIGHT
DTSTART:20230312T030000
RDATE:20231105T010000
TZOFFSETFROM:-0500
TZOFFSETTO:-0400
TZNAME:America/New_York EDT
END:DAYLIGHT
BEGIN:DAYLIGHT
DTSTART:20240310T030000
RDATE:20241103T010000
TZOFFSETFROM:-0500
TZOFFSETTO:-0400
TZNAME:America/New_York EDT
END:DAYLIGHT
BEGIN:DAYLIGHT
DTSTART:20250309T030000
RDATE:20251102T010000
TZOFFSETFROM:-0500
TZOFFSETTO:-0400
TZNAME:America/New_York EDT
END:DAYLIGHT
BEGIN:DAYLIGHT
DTSTART:20260308T030000
RDATE:20261101T010000
TZOFFSETFROM:-0500
TZOFFSETTO:-0400
TZNAME:America/New_York EDT
END:DAYLIGHT
BEGIN:DAYLIGHT
DTSTART:20270314T030000
RDATE:20271107T010000
TZOFFSETFROM:-0500
TZOFFSETTO:-0400
TZNAME:America/New_York EDT
END:DAYLIGHT
BEGIN:DAYLIGHT
DTSTART:20280312T030000
RDATE:20281105T010000
TZOFFSETFROM:-0500
TZOFFSETTO:-0400
TZNAME:America/New_York EDT
END:DAYLIGHT
END:VTIMEZONE
BEGIN:VEVENT
UID:edf87a00b6c2dbaa183a6f6096a57965
CATEGORIES:Testing
CREATED:20221020T174223
SUMMARY:USWA Rank Testing 
LOCATION:USWA VA
DESCRIPTION;ENCODING=QUOTED-PRINTABLE:<h4 style="text-align: center;"><strong>US Wushu Academy Rank Testing Rules
 </strong></h4><table style="line-height: 24.5px;"><tbody><tr><td style="tex
 t-align: center;"> All students need to complete the Rank Advancement Appli
 cation before 7 days Testing Date Check in with the testing official at lea
 st 30 minutes before Scheduled time Students are responsible for their own 
 warm-up for Rank Testing.</td></tr><tr><td style="text-align: center;"> Loc
 ation: 2979 Prosperity Avenue, Fairfax, VA 22031 </td></tr></tbody></table>
 <div> </div><div><div> </div><h4 style="text-align: center;">2021 Scheduled
  Rank Testing</h4><p> </p></div><div class="jev_eventdetails_body" style="t
 ext-align: center;"><div class="jev_evdt_desc"><table style="width: 330px; 
 height: 132px;" cellspacing="0" cellpadding="0"><tbody><tr><td style="text-
 align: left;">July 18</td><td style="text-align: left;">August 15</td><td s
 tyle="text-align: left;">September 19</td></tr><tr><td style="text-align: l
 eft;">October 17</td><td style="text-align: left;">November 13</td><td styl
 e="text-align: left;"><div style="text-align: left;">December 12</div></td>
 </tr></tbody></table><table style="line-height: 24.5px;" border="0"><tbody>
 <tr><td><h4 style="line-height: 21.6px;">Testing at US Wushu Academy </h4><
 /td></tr><tr><td><p>Testing at US Wushu Academy Every month a select group 
 USWA students appear before the school's testing board to demonstrate their
  readiness to exchange their belts for new ones, symbolizing the next level
  of expertise. Following the concept instituted by the Beijing Wushu Team, 
 Academy students first earn their belt stripes and, once the training coach
  makes the determination that individual students are qualified for testing
 , they are then recommended to the board. The school does not conduct block
  examinations; instead, each student is tested according to his or her part
 icular skill level. <br />Junior Taijiquan and Wushu students will be teste
 d by senior US Wushu Academy senior black belt certified by the Academy, wh
 o will be applying exactly the same judging criteria that are used by the I
 nternational Wushu Federation.</p><p> </p><hr /><p style="text-align: cente
 r;">September  Testing</p><table style="width: 515.406px;" border="0" cells
 pacing="0" cellpadding="0"><colgroup><col style="mso-width-source: userset;
  mso-width-alt: 2720; width: 64pt;" span="3" width="85" /> </colgroup><tbod
 y><tr style="height: 14.25pt;"><td class="xl82" style="height: 14.25pt; wid
 th: 78px;" height="19">Wushu  </td><td class="xl82" style="width: 131px;">A
 bby Mintzer </td><td class="xl82" style="width: 287.406px;">Changquan</td><
 /tr><tr style="height: 14.25pt;"><td class="xl82" style="height: 14.25pt; w
 idth: 78px;" height="19">Wushu  </td><td class="xl82" style="width: 131px;"
 >Anya Crowl </td><td class="xl82" style="width: 287.406px;">Changquan</td><
 /tr><tr style="height: 15.0pt;"><td class="xl82" style="height: 15pt; width
 : 78px;" height="20">Wushu  </td><td class="xl82" style="width: 131px;">Lia
 m Brown </td><td class="xl82" style="width: 287.406px;">Changquan</td></tr>
 <tr style="height: 15.0pt;"><td class="xl82" style="height: 15pt; width: 78
 px;" height="20">Wushu  </td><td class="xl82" style="width: 131px;">Marisa 
 Mintzer </td><td class="xl82" style="width: 287.406px;">Basic Form  Basic S
 taff Basic Broadsword</td></tr><tr style="height: 14.25pt;"><td class="xl82
 " style="height: 14.25pt; width: 78px;" height="19">Wushu  </td><td class="
 xl82" style="width: 131px;">Marshall Craft</td><td class="xl82" style="widt
 h: 287.406px;">Basic Form</td></tr><tr style="height: 14.25pt;"><td class="
 xl82" style="height: 14.25pt; width: 78px;" height="19">Wushu  </td><td cla
 ss="xl82" style="width: 131px;">William Zhu </td><td class="xl82" style="wi
 dth: 287.406px;">Nine Sectional Whip</td></tr></tbody></table><p style="tex
 t-align: center;"> </p></td></tr></tbody></table></div></div>
DTSTAMP:20260421T220651Z
DTSTART;TZID=America/New_York:20210919T150000
DTEND;TZID=America/New_York:20210919T160000
SEQUENCE:0
TRANSP:OPAQUE
END:VEVENT
END:VCALENDAR