BEGIN:VCALENDAR
VERSION:2.0
PRODID:-//jEvents 2.0 for Joomla//EN
CALSCALE:GREGORIAN
METHOD:PUBLISH
BEGIN:VTIMEZONE
TZID:America/New_York
BEGIN:STANDARD
DTSTART:20201112T150000
RDATE:20210314T030000
TZOFFSETFROM:-0400
TZOFFSETTO:-0500
TZNAME:America/New_York EST
END:STANDARD
BEGIN:STANDARD
DTSTART:20211107T010000
RDATE:20220313T030000
TZOFFSETFROM:-0400
TZOFFSETTO:-0500
TZNAME:America/New_York EST
END:STANDARD
BEGIN:STANDARD
DTSTART:20221106T010000
RDATE:20230312T030000
TZOFFSETFROM:-0400
TZOFFSETTO:-0500
TZNAME:America/New_York EST
END:STANDARD
BEGIN:STANDARD
DTSTART:20231105T010000
RDATE:20240310T030000
TZOFFSETFROM:-0400
TZOFFSETTO:-0500
TZNAME:America/New_York EST
END:STANDARD
BEGIN:STANDARD
DTSTART:20241103T010000
RDATE:20250309T030000
TZOFFSETFROM:-0400
TZOFFSETTO:-0500
TZNAME:America/New_York EST
END:STANDARD
BEGIN:STANDARD
DTSTART:20251102T010000
RDATE:20260308T030000
TZOFFSETFROM:-0400
TZOFFSETTO:-0500
TZNAME:America/New_York EST
END:STANDARD
BEGIN:STANDARD
DTSTART:20261101T010000
RDATE:20270314T030000
TZOFFSETFROM:-0400
TZOFFSETTO:-0500
TZNAME:America/New_York EST
END:STANDARD
BEGIN:STANDARD
DTSTART:20271107T010000
RDATE:20280312T030000
TZOFFSETFROM:-0400
TZOFFSETTO:-0500
TZNAME:America/New_York EST
END:STANDARD
BEGIN:STANDARD
DTSTART:20281105T010000
RDATE:20290311T030000
TZOFFSETFROM:-0400
TZOFFSETTO:-0500
TZNAME:America/New_York EST
END:STANDARD
BEGIN:DAYLIGHT
DTSTART:20210314T030000
RDATE:20211107T010000
TZOFFSETFROM:-0500
TZOFFSETTO:-0400
TZNAME:America/New_York EDT
END:DAYLIGHT
BEGIN:DAYLIGHT
DTSTART:20220313T030000
RDATE:20221106T010000
TZOFFSETFROM:-0500
TZOFFSETTO:-0400
TZNAME:America/New_York EDT
END:DAYLIGHT
BEGIN:DAYLIGHT
DTSTART:20230312T030000
RDATE:20231105T010000
TZOFFSETFROM:-0500
TZOFFSETTO:-0400
TZNAME:America/New_York EDT
END:DAYLIGHT
BEGIN:DAYLIGHT
DTSTART:20240310T030000
RDATE:20241103T010000
TZOFFSETFROM:-0500
TZOFFSETTO:-0400
TZNAME:America/New_York EDT
END:DAYLIGHT
BEGIN:DAYLIGHT
DTSTART:20250309T030000
RDATE:20251102T010000
TZOFFSETFROM:-0500
TZOFFSETTO:-0400
TZNAME:America/New_York EDT
END:DAYLIGHT
BEGIN:DAYLIGHT
DTSTART:20260308T030000
RDATE:20261101T010000
TZOFFSETFROM:-0500
TZOFFSETTO:-0400
TZNAME:America/New_York EDT
END:DAYLIGHT
BEGIN:DAYLIGHT
DTSTART:20270314T030000
RDATE:20271107T010000
TZOFFSETFROM:-0500
TZOFFSETTO:-0400
TZNAME:America/New_York EDT
END:DAYLIGHT
BEGIN:DAYLIGHT
DTSTART:20280312T030000
RDATE:20281105T010000
TZOFFSETFROM:-0500
TZOFFSETTO:-0400
TZNAME:America/New_York EDT
END:DAYLIGHT
END:VTIMEZONE
BEGIN:VEVENT
UID:0924605fb520606d39c92646b60b8559
CATEGORIES:Testing
CREATED:20221020T173542
SUMMARY:USWA Rank Testing 
LOCATION:USWA VA
DESCRIPTION;ENCODING=QUOTED-PRINTABLE:US Wushu Academy Rank Testing Rules All students need to complete the Rank 
 Advancement Application before 7 days Testing Date Check in with the testin
 g official at least 30 minutes before Scheduled time Students are responsib
 le for their own warm-up for Rank Testing. Location: 2979 Prosperity Avenue
 , Fairfax, VA 22031   2021 Scheduled Rank TestingJuly 18August 15September 
 19October 17November 13December 12Testing at US Wushu Academy \n\nTesting a
 t US Wushu Academy Every month a select group USWA students appear before t
 he school's testing board to demonstrate their readiness to exchange their 
 belts for new ones, symbolizing the next level of expertise. Following the 
 concept instituted by the Beijing Wushu Team, Academy students first earn t
 heir belt stripes and, once the training coach makes the determination that
  individual students are qualified for testing, they are then recommended t
 o the board. The school does not conduct block examinations; instead, each 
 student is tested according to his or her particular skill level. \nJunior 
 Taijiquan and Wushu students will be tested by senior US Wushu Academy seni
 or black belt certified by the Academy, who will be applying exactly the sa
 me judging criteria that are used by the International Wushu Federation.\n\
 n\n \nNovember  Testing\n  Wushu  Abby Mintzer        BroadswordWushu  Blak
 e Thornton   Basic Barehand Basic Staff Basic BroadswordWushu  Carey Hsu   
           ChangquanWushu  Catherine Hoang  Basic SwordWushu  Elliott Hsu   
           ChangquanWushu  Justin Tian           Basic BarehandWushu  Liam B
 rownBroadsword \n
DTSTAMP:20260421T184020Z
DTSTART;TZID=America/New_York:20211113T150000
DTEND;TZID=America/New_York:20211113T160000
SEQUENCE:0
TRANSP:OPAQUE
END:VEVENT
END:VCALENDAR