BEGIN:VCALENDAR
VERSION:2.0
PRODID:-//jEvents 2.0 for Joomla//EN
CALSCALE:GREGORIAN
METHOD:PUBLISH
BEGIN:VTIMEZONE
TZID:America/New_York
BEGIN:STANDARD
DTSTART:20210205T150000
RDATE:20210314T030000
TZOFFSETFROM:-0400
TZOFFSETTO:-0500
TZNAME:America/New_York EST
END:STANDARD
BEGIN:STANDARD
DTSTART:20211107T010000
RDATE:20220313T030000
TZOFFSETFROM:-0400
TZOFFSETTO:-0500
TZNAME:America/New_York EST
END:STANDARD
BEGIN:STANDARD
DTSTART:20221106T010000
RDATE:20230312T030000
TZOFFSETFROM:-0400
TZOFFSETTO:-0500
TZNAME:America/New_York EST
END:STANDARD
BEGIN:STANDARD
DTSTART:20231105T010000
RDATE:20240310T030000
TZOFFSETFROM:-0400
TZOFFSETTO:-0500
TZNAME:America/New_York EST
END:STANDARD
BEGIN:STANDARD
DTSTART:20241103T010000
RDATE:20250309T030000
TZOFFSETFROM:-0400
TZOFFSETTO:-0500
TZNAME:America/New_York EST
END:STANDARD
BEGIN:STANDARD
DTSTART:20251102T010000
RDATE:20260308T030000
TZOFFSETFROM:-0400
TZOFFSETTO:-0500
TZNAME:America/New_York EST
END:STANDARD
BEGIN:STANDARD
DTSTART:20261101T010000
RDATE:20270314T030000
TZOFFSETFROM:-0400
TZOFFSETTO:-0500
TZNAME:America/New_York EST
END:STANDARD
BEGIN:STANDARD
DTSTART:20271107T010000
RDATE:20280312T030000
TZOFFSETFROM:-0400
TZOFFSETTO:-0500
TZNAME:America/New_York EST
END:STANDARD
BEGIN:STANDARD
DTSTART:20281105T010000
RDATE:20290311T030000
TZOFFSETFROM:-0400
TZOFFSETTO:-0500
TZNAME:America/New_York EST
END:STANDARD
BEGIN:DAYLIGHT
DTSTART:20210314T030000
RDATE:20211107T010000
TZOFFSETFROM:-0500
TZOFFSETTO:-0400
TZNAME:America/New_York EDT
END:DAYLIGHT
BEGIN:DAYLIGHT
DTSTART:20220313T030000
RDATE:20221106T010000
TZOFFSETFROM:-0500
TZOFFSETTO:-0400
TZNAME:America/New_York EDT
END:DAYLIGHT
BEGIN:DAYLIGHT
DTSTART:20230312T030000
RDATE:20231105T010000
TZOFFSETFROM:-0500
TZOFFSETTO:-0400
TZNAME:America/New_York EDT
END:DAYLIGHT
BEGIN:DAYLIGHT
DTSTART:20240310T030000
RDATE:20241103T010000
TZOFFSETFROM:-0500
TZOFFSETTO:-0400
TZNAME:America/New_York EDT
END:DAYLIGHT
BEGIN:DAYLIGHT
DTSTART:20250309T030000
RDATE:20251102T010000
TZOFFSETFROM:-0500
TZOFFSETTO:-0400
TZNAME:America/New_York EDT
END:DAYLIGHT
BEGIN:DAYLIGHT
DTSTART:20260308T030000
RDATE:20261101T010000
TZOFFSETFROM:-0500
TZOFFSETTO:-0400
TZNAME:America/New_York EDT
END:DAYLIGHT
BEGIN:DAYLIGHT
DTSTART:20270314T030000
RDATE:20271107T010000
TZOFFSETFROM:-0500
TZOFFSETTO:-0400
TZNAME:America/New_York EDT
END:DAYLIGHT
BEGIN:DAYLIGHT
DTSTART:20280312T030000
RDATE:20281105T010000
TZOFFSETFROM:-0500
TZOFFSETTO:-0400
TZNAME:America/New_York EDT
END:DAYLIGHT
END:VTIMEZONE
BEGIN:VEVENT
UID:f14b8c5b24c47c2d0bbb46f129f4e6e7
CATEGORIES:Testing
CREATED:20221020T085612
SUMMARY:USWA Rank Testing 
LOCATION:USWA VA
DESCRIPTION;ENCODING=QUOTED-PRINTABLE:<h4 style="text-align: center;"><strong>US Wushu Academy Rank Testing Rules
 </strong></h4><table style="line-height: 24.5px;"><tbody><tr><td style="tex
 t-align: center;"> All students need to complete the Rank Advancement Appli
 cation before 7 days Testing Date Check in with the testing official at lea
 st 30 minutes before Scheduled time Students are responsible for their own 
 warm-up for Rank Testing.</td></tr><tr><td style="text-align: center;"> Loc
 ation: 2979 Prosperity Avenue, Fairfax, VA 22031 </td></tr></tbody></table>
 <div> </div><div><div> </div><h4 style="text-align: center;">2022 Scheduled
  Rank Testing</h4></div><div class="jev_eventdetails_body" style="text-alig
 n: center;"><div class="jev_evdt_desc"><table style="width: 330px; height: 
 132px;" cellspacing="0" cellpadding="0"><tbody><tr><td style="text-align: l
 eft;">January 9</td><td style="text-align: left;">February 6</td><td style=
 "text-align: left;">March 6</td></tr><tr><td style="text-align: left;">Apri
 l 3</td><td style="text-align: left;">May 1</td><td style="text-align: left
 ;">June 5</td></tr><tr><td style="text-align: left;">July 10</td><td style=
 "text-align: left;">August 7</td><td style="text-align: left;">September 11
 </td></tr><tr><td style="text-align: left;">October 9</td><td style="text-a
 lign: left;">November 6</td><td style="text-align: left;"><div style="text-
 align: left;">December 4</div></td></tr></tbody></table><table style="line-
 height: 24.5px;" border="0"><tbody><tr><td><h4 style="line-height: 21.6px;"
 >Testing at US Wushu Academy </h4></td></tr><tr><td><p>Testing at US Wushu 
 Academy Every month a select group USWA students appear before the school's
  testing board to demonstrate their readiness to exchange their belts for n
 ew ones, symbolizing the next level of expertise. Following the concept ins
 tituted by the Beijing Wushu Team, Academy students first earn their belt s
 tripes and, once the training coach makes the determination that individual
  students are qualified for testing, they are then recommended to the board
 . The school does not conduct block examinations; instead, each student is 
 tested according to his or her particular skill level. <br />Junior Taijiqu
 an and Wushu students will be tested by senior US Wushu Academy senior blac
 k belt certified by the Academy, who will be applying exactly the same judg
 ing criteria that are used by the International Wushu Federation.</p><p> </
 p><hr /><p style="text-align: center;">February  Testing</p><table style="w
 idth: 457pt; float: left;" border="0" width="609" cellspacing="0" cellpaddi
 ng="0"><tbody><tr style="height: 14.25pt;"><td class="xl82" style="height: 
 14.25pt; width: 117pt; text-align: left;" width="156" height="19">Chen Styl
 e Taiji</td><td class="xl82" style="width: 151pt; text-align: left;" width=
 "201">Mark Rowe</td><td class="xl82" style="width: 189pt; text-align: left;
 " width="252">Section One</td></tr></tbody></table><table style="width: 457
 pt; float: left;" border="0" width="609" cellspacing="0" cellpadding="0"><t
 body><tr style="height: 14.25pt;"><td class="xl82" style="height: 14.25pt; 
 width: 117pt; text-align: left;" width="156" height="19">Chen Style Taiji</
 td><td class="xl82" style="width: 151pt; text-align: left;" width="201">Amm
 ar Shaat</td><td class="xl82" style="width: 189pt; text-align: left;" width
 ="252">Section One</td></tr></tbody></table><table style="width: 457pt;" bo
 rder="0" width="609" cellspacing="0" cellpadding="0"><tbody><tr style="heig
 ht: 14.25pt;"><td class="xl82" style="height: 14.25pt; width: 117pt; text-a
 lign: left;" width="156" height="19">Chen Style Taiji</td><td class="xl82" 
 style="width: 151pt; text-align: left;" width="201">Fred Henry</td><td clas
 s="xl82" style="width: 189pt; text-align: left;" width="252">Section Two</t
 d></tr></tbody></table></td></tr></tbody></table></div></div>
DTSTAMP:20260421T134826Z
DTSTART;TZID=America/New_York:20220206T150000
DTEND;TZID=America/New_York:20220206T160000
SEQUENCE:0
TRANSP:OPAQUE
END:VEVENT
END:VCALENDAR