BEGIN:VCALENDAR
VERSION:2.0
PRODID:-//jEvents 2.0 for Joomla//EN
CALSCALE:GREGORIAN
METHOD:PUBLISH
BEGIN:VTIMEZONE
TZID:America/New_York
BEGIN:STANDARD
DTSTART:20161106T010000
RDATE:20170312T030000
TZOFFSETFROM:-0400
TZOFFSETTO:-0500
TZNAME:America/New_York EST
END:STANDARD
BEGIN:STANDARD
DTSTART:20171105T010000
RDATE:20180311T030000
TZOFFSETFROM:-0400
TZOFFSETTO:-0500
TZNAME:America/New_York EST
END:STANDARD
BEGIN:STANDARD
DTSTART:20181104T010000
RDATE:20190310T030000
TZOFFSETFROM:-0400
TZOFFSETTO:-0500
TZNAME:America/New_York EST
END:STANDARD
BEGIN:STANDARD
DTSTART:20191103T010000
RDATE:20200308T030000
TZOFFSETFROM:-0400
TZOFFSETTO:-0500
TZNAME:America/New_York EST
END:STANDARD
BEGIN:STANDARD
DTSTART:20201101T010000
RDATE:20210314T030000
TZOFFSETFROM:-0400
TZOFFSETTO:-0500
TZNAME:America/New_York EST
END:STANDARD
BEGIN:STANDARD
DTSTART:20211107T010000
RDATE:20220313T030000
TZOFFSETFROM:-0400
TZOFFSETTO:-0500
TZNAME:America/New_York EST
END:STANDARD
BEGIN:STANDARD
DTSTART:20221106T010000
RDATE:20230312T030000
TZOFFSETFROM:-0400
TZOFFSETTO:-0500
TZNAME:America/New_York EST
END:STANDARD
BEGIN:STANDARD
DTSTART:20231105T010000
RDATE:20240310T030000
TZOFFSETFROM:-0400
TZOFFSETTO:-0500
TZNAME:America/New_York EST
END:STANDARD
BEGIN:STANDARD
DTSTART:20241103T010000
RDATE:20250309T030000
TZOFFSETFROM:-0400
TZOFFSETTO:-0500
TZNAME:America/New_York EST
END:STANDARD
BEGIN:STANDARD
DTSTART:20251102T010000
RDATE:20260308T030000
TZOFFSETFROM:-0400
TZOFFSETTO:-0500
TZNAME:America/New_York EST
END:STANDARD
BEGIN:STANDARD
DTSTART:20261101T010000
RDATE:20270314T030000
TZOFFSETFROM:-0400
TZOFFSETTO:-0500
TZNAME:America/New_York EST
END:STANDARD
BEGIN:STANDARD
DTSTART:20271107T010000
RDATE:20280312T030000
TZOFFSETFROM:-0400
TZOFFSETTO:-0500
TZNAME:America/New_York EST
END:STANDARD
BEGIN:STANDARD
DTSTART:20281105T010000
RDATE:20290311T030000
TZOFFSETFROM:-0400
TZOFFSETTO:-0500
TZNAME:America/New_York EST
END:STANDARD
BEGIN:DAYLIGHT
DTSTART:20160331T130000
RDATE:20161106T010000
TZOFFSETFROM:-0500
TZOFFSETTO:-0400
TZNAME:America/New_York EDT
END:DAYLIGHT
BEGIN:DAYLIGHT
DTSTART:20170312T030000
RDATE:20171105T010000
TZOFFSETFROM:-0500
TZOFFSETTO:-0400
TZNAME:America/New_York EDT
END:DAYLIGHT
BEGIN:DAYLIGHT
DTSTART:20180311T030000
RDATE:20181104T010000
TZOFFSETFROM:-0500
TZOFFSETTO:-0400
TZNAME:America/New_York EDT
END:DAYLIGHT
BEGIN:DAYLIGHT
DTSTART:20190310T030000
RDATE:20191103T010000
TZOFFSETFROM:-0500
TZOFFSETTO:-0400
TZNAME:America/New_York EDT
END:DAYLIGHT
BEGIN:DAYLIGHT
DTSTART:20200308T030000
RDATE:20201101T010000
TZOFFSETFROM:-0500
TZOFFSETTO:-0400
TZNAME:America/New_York EDT
END:DAYLIGHT
BEGIN:DAYLIGHT
DTSTART:20210314T030000
RDATE:20211107T010000
TZOFFSETFROM:-0500
TZOFFSETTO:-0400
TZNAME:America/New_York EDT
END:DAYLIGHT
BEGIN:DAYLIGHT
DTSTART:20220313T030000
RDATE:20221106T010000
TZOFFSETFROM:-0500
TZOFFSETTO:-0400
TZNAME:America/New_York EDT
END:DAYLIGHT
BEGIN:DAYLIGHT
DTSTART:20230312T030000
RDATE:20231105T010000
TZOFFSETFROM:-0500
TZOFFSETTO:-0400
TZNAME:America/New_York EDT
END:DAYLIGHT
BEGIN:DAYLIGHT
DTSTART:20240310T030000
RDATE:20241103T010000
TZOFFSETFROM:-0500
TZOFFSETTO:-0400
TZNAME:America/New_York EDT
END:DAYLIGHT
BEGIN:DAYLIGHT
DTSTART:20250309T030000
RDATE:20251102T010000
TZOFFSETFROM:-0500
TZOFFSETTO:-0400
TZNAME:America/New_York EDT
END:DAYLIGHT
BEGIN:DAYLIGHT
DTSTART:20260308T030000
RDATE:20261101T010000
TZOFFSETFROM:-0500
TZOFFSETTO:-0400
TZNAME:America/New_York EDT
END:DAYLIGHT
BEGIN:DAYLIGHT
DTSTART:20270314T030000
RDATE:20271107T010000
TZOFFSETFROM:-0500
TZOFFSETTO:-0400
TZNAME:America/New_York EDT
END:DAYLIGHT
BEGIN:DAYLIGHT
DTSTART:20280312T030000
RDATE:20281105T010000
TZOFFSETFROM:-0500
TZOFFSETTO:-0400
TZNAME:America/New_York EDT
END:DAYLIGHT
END:VTIMEZONE
BEGIN:VEVENT
UID:c3d504017dde46e145edcdcd7b88c9f6
CATEGORIES:Testing
CREATED:20170331T230634
SUMMARY:Rank Testing List
LOCATION:USWA VA Location
DESCRIPTION;ENCODING=QUOTED-PRINTABLE:<p style="font-family: 'Open Sans', Arial, 'Arial Unicode MS', Helvetica, s
 ans-serif; font-size: 14px; border: none; line-height: 1.5em; text-align: c
 enter;"><span style="color: #20252d; font-family: Times; font-size: 18pt;">
 USWA Rank Testing April 1 , 2017</span></p><p style="font-family: 'Open San
 s', Arial, 'Arial Unicode MS', Helvetica, sans-serif; font-size: 14px; bord
 er: none; line-height: 1.5em; text-align: center;"><span style="font-family
 : Times; font-size: 16pt;">Rank Testing is located at the Virginia's</span>
 </p><p style="font-family: 'Open Sans', Arial, 'Arial Unicode MS', Helvetic
 a, sans-serif; font-size: 14px; border: none; line-height: 1.5em; text-alig
 n: center;"><span style="font-family: Times; font-size: 16pt;">United State
 s Wushu Academy</span></p><p style="font-family: 'Open Sans', Arial, 'Arial
  Unicode MS', Helvetica, sans-serif; font-size: 14px; border: none; line-he
 ight: 1.5em; text-align: center;"><span style="font-family: Times; font-siz
 e: 16pt;">2979 Prosperity Avenue, Fairfax, VA 22031</span></p><p style="fon
 t-family: 'Open Sans', Arial, 'Arial Unicode MS', Helvetica, sans-serif; fo
 nt-size: 14px; border: none; line-height: 1.5em; text-align: center;"><span
  style="font-family: Times; font-size: 16pt;">703-698-8182</span></p><p sty
 le="font-family: 'Open Sans', Arial, 'Arial Unicode MS', Helvetica, sans-se
 rif; font-size: 14px; border: none; line-height: 1.5em; text-align: center;
 "><strong><span style="text-decoration: underline;"><span style="font-famil
 y: Times; font-size: 14pt;">Pre-Testing Rules</span></span></strong></p><p 
 style="font-family: 'Open Sans', Arial, 'Arial Unicode MS', Helvetica, sans
 -serif; font-size: 14px; border: none; line-height: 1.5em; text-align: cent
 er;"><span style="font-family: Times;">1.  Check in with the testing offici
 al at least 30 minutes before Your Scheduled time</span></p><p style="font-
 family: 'Open Sans', Arial, 'Arial Unicode MS', Helvetica, sans-serif; font
 -size: 14px; border: none; line-height: 1.5em; text-align: center;"><span s
 tyle="font-family: Times;">2.  Rank Advancement Request Form has been appro
 ved and completed</span></p><p style="font-family: 'Open Sans', Arial, 'Ari
 al Unicode MS', Helvetica, sans-serif; font-size: 14px; border: none; line-
 height: 1.5em; text-align: center;"><span style="font-family: Times;">3.  T
 ardy students WILL NOT ALLOW testing and will be rescheduled for next month
 </span></p><p style="font-family: 'Open Sans', Arial, 'Arial Unicode MS', H
 elvetica, sans-serif; font-size: 14px; border: none; line-height: 1.5em; te
 xt-align: center;"><span style="font-family: Times;">4.  Proper Grooming an
 d Full Complete Clean Uniform is required for testing</span></p><p style="f
 ont-family: 'Open Sans', Arial, 'Arial Unicode MS', Helvetica, sans-serif; 
 font-size: 14px; border: none; line-height: 1.5em; text-align: center;"><sp
 an style="font-family: Times;">5.  Students are responsible for their own w
 arm-up and equipment</span></p><p style="font-family: 'Open Sans', Arial, '
 Arial Unicode MS', Helvetica, sans-serif; font-size: 14px;"><strong>1:05 PM
                 Yang Style Taijiquan</strong></p><p style="font-family: 'Op
 en Sans', Arial, 'Arial Unicode MS', Helvetica, sans-serif; font-size: 14px
 ;">VA                          Shelly Uhlir</p><p style="font-family: 'Open
  Sans', Arial, 'Arial Unicode MS', Helvetica, sans-serif; font-size: 14px;"
 >VA                          Moira O&rsquo;Brien</p><p style="font-family: 
 'Open Sans', Arial, 'Arial Unicode MS', Helvetica, sans-serif; font-size: 1
 4px;"><strong>Yang Style Rank Ceremony</strong></p><p style="font-family: '
 Open Sans', Arial, 'Arial Unicode MS', Helvetica, sans-serif; font-size: 14
 px;">1:30 PM                Wushu Basic</p><p style="font-family: 'Open San
 s', Arial, 'Arial Unicode MS', Helvetica, sans-serif; font-size: 14px;"><st
 rong>First Team</strong></p><p style="font-family: 'Open Sans', Arial, 'Ari
 al Unicode MS', Helvetica, sans-serif; font-size: 14px;">VA                
           Evelyn Chen</p><p style="font-family: 'Open Sans', Arial, 'Arial 
 Unicode MS', Helvetica, sans-serif; font-size: 14px;">MD                   
       Katie Zhang</p><p style="font-family: 'Open Sans', Arial, 'Arial Unic
 ode MS', Helvetica, sans-serif; font-size: 14px;">MD                       
   Isabella Jiang</p><p style="font-family: 'Open Sans', Arial, 'Arial Unico
 de MS', Helvetica, sans-serif; font-size: 14px;">MD                        
  Aiden Paul</p><p style="font-family: 'Open Sans', Arial, 'Arial Unicode MS
 ', Helvetica, sans-serif; font-size: 14px;">MD                         Andr
 ew Paul</p><p style="font-family: 'Open Sans', Arial, 'Arial Unicode MS', H
 elvetica, sans-serif; font-size: 14px;"><strong>Second Team</strong></p><p 
 style="font-family: 'Open Sans', Arial, 'Arial Unicode MS', Helvetica, sans
 -serif; font-size: 14px;">VA                          Marisa Mintzer</p><p 
 style="font-family: 'Open Sans', Arial, 'Arial Unicode MS', Helvetica, sans
 -serif; font-size: 14px;">VA                          Jackie Zhu</p><p styl
 e="font-family: 'Open Sans', Arial, 'Arial Unicode MS', Helvetica, sans-ser
 if; font-size: 14px;">VA                          Emerson Brown</p><p style
 ="font-family: 'Open Sans', Arial, 'Arial Unicode MS', Helvetica, sans-seri
 f; font-size: 14px;">VA                          Abigail Mintzer</p><p styl
 e="font-family: 'Open Sans', Arial, 'Arial Unicode MS', Helvetica, sans-ser
 if; font-size: 14px;"><strong>Wushu Individual Form</strong></p><p style="f
 ont-family: 'Open Sans', Arial, 'Arial Unicode MS', Helvetica, sans-serif; 
 font-size: 14px;">VA                          Brandon Dang                 
   Changquan</p><p style="font-family: 'Open Sans', Arial, 'Arial Unicode MS
 ', Helvetica, sans-serif; font-size: 14px;">MD                         Isab
 ella Jiang                      Changquan</p><p style="font-family: 'Open S
 ans', Arial, 'Arial Unicode MS', Helvetica, sans-serif; font-size: 14px;">V
 A                          Abigail Mintzer                  Basic Form</p><
 p style="font-family: 'Open Sans', Arial, 'Arial Unicode MS', Helvetica, sa
 ns-serif; font-size: 14px;">VA                          Emerson Brown      
                           Basic Form</p><p style="font-family: 'Open Sans',
  Arial, 'Arial Unicode MS', Helvetica, sans-serif; font-size: 14px;">VA    
                       Jackie Zhu                           Basic Form</p><p
  style="font-family: 'Open Sans', Arial, 'Arial Unicode MS', Helvetica, san
 s-serif; font-size: 14px;">VA                          Marisa Mintzer      
            Basic Form</p><p style="font-family: 'Open Sans', Arial, 'Arial 
 Unicode MS', Helvetica, sans-serif; font-size: 14px;">VA                   
        Brandon Dang                   Staff</p><p style="font-family: 'Open
  Sans', Arial, 'Arial Unicode MS', Helvetica, sans-serif; font-size: 14px;"
 >MD                         Andrew Paul                      Basic Staff</p
 ><p style="font-family: 'Open Sans', Arial, 'Arial Unicode MS', Helvetica, 
 sans-serif; font-size: 14px;">MD                         Aiden Paul        
                   Basic Staff</p><p style="font-family: 'Open Sans', Arial,
  'Arial Unicode MS', Helvetica, sans-serif; font-size: 14px;">MD           
               Katie Zhang                        Spear</p><p style="font-fa
 mily: 'Open Sans', Arial, 'Arial Unicode MS', Helvetica, sans-serif; font-s
 ize: 14px;">VA                          Evelyn Chen                       S
 word</p><p style="font-family: 'Open Sans', Arial, 'Arial Unicode MS', Helv
 etica, sans-serif; font-size: 14px;">VA                          Brandon Da
 ng                   Broadsword</p><p style="font-family: 'Open Sans', Aria
 l, 'Arial Unicode MS', Helvetica, sans-serif; font-size: 14px;">           
                    <strong>  Wushu New Rank Ceremony</strong></p>
DTSTAMP:20260425T191009Z
DTSTART;TZID=America/New_York:20170401T130000
DTEND;TZID=America/New_York:20170401T150000
SEQUENCE:0
TRANSP:OPAQUE
END:VEVENT
END:VCALENDAR