BEGIN:VCALENDAR
VERSION:2.0
PRODID:-//jEvents 2.0 for Joomla//EN
CALSCALE:GREGORIAN
METHOD:PUBLISH
BEGIN:VTIMEZONE
TZID:America/New_York
BEGIN:STANDARD
DTSTART:20181213T130500
RDATE:20190310T030000
TZOFFSETFROM:-0400
TZOFFSETTO:-0500
TZNAME:America/New_York EST
END:STANDARD
BEGIN:STANDARD
DTSTART:20191103T010000
RDATE:20200308T030000
TZOFFSETFROM:-0400
TZOFFSETTO:-0500
TZNAME:America/New_York EST
END:STANDARD
BEGIN:STANDARD
DTSTART:20201101T010000
RDATE:20210314T030000
TZOFFSETFROM:-0400
TZOFFSETTO:-0500
TZNAME:America/New_York EST
END:STANDARD
BEGIN:STANDARD
DTSTART:20211107T010000
RDATE:20220313T030000
TZOFFSETFROM:-0400
TZOFFSETTO:-0500
TZNAME:America/New_York EST
END:STANDARD
BEGIN:STANDARD
DTSTART:20221106T010000
RDATE:20230312T030000
TZOFFSETFROM:-0400
TZOFFSETTO:-0500
TZNAME:America/New_York EST
END:STANDARD
BEGIN:STANDARD
DTSTART:20231105T010000
RDATE:20240310T030000
TZOFFSETFROM:-0400
TZOFFSETTO:-0500
TZNAME:America/New_York EST
END:STANDARD
BEGIN:STANDARD
DTSTART:20241103T010000
RDATE:20250309T030000
TZOFFSETFROM:-0400
TZOFFSETTO:-0500
TZNAME:America/New_York EST
END:STANDARD
BEGIN:STANDARD
DTSTART:20251102T010000
RDATE:20260308T030000
TZOFFSETFROM:-0400
TZOFFSETTO:-0500
TZNAME:America/New_York EST
END:STANDARD
BEGIN:STANDARD
DTSTART:20261101T010000
RDATE:20270314T030000
TZOFFSETFROM:-0400
TZOFFSETTO:-0500
TZNAME:America/New_York EST
END:STANDARD
BEGIN:STANDARD
DTSTART:20271107T010000
RDATE:20280312T030000
TZOFFSETFROM:-0400
TZOFFSETTO:-0500
TZNAME:America/New_York EST
END:STANDARD
BEGIN:STANDARD
DTSTART:20281105T010000
RDATE:20290311T030000
TZOFFSETFROM:-0400
TZOFFSETTO:-0500
TZNAME:America/New_York EST
END:STANDARD
BEGIN:DAYLIGHT
DTSTART:20190310T030000
RDATE:20191103T010000
TZOFFSETFROM:-0500
TZOFFSETTO:-0400
TZNAME:America/New_York EDT
END:DAYLIGHT
BEGIN:DAYLIGHT
DTSTART:20200308T030000
RDATE:20201101T010000
TZOFFSETFROM:-0500
TZOFFSETTO:-0400
TZNAME:America/New_York EDT
END:DAYLIGHT
BEGIN:DAYLIGHT
DTSTART:20210314T030000
RDATE:20211107T010000
TZOFFSETFROM:-0500
TZOFFSETTO:-0400
TZNAME:America/New_York EDT
END:DAYLIGHT
BEGIN:DAYLIGHT
DTSTART:20220313T030000
RDATE:20221106T010000
TZOFFSETFROM:-0500
TZOFFSETTO:-0400
TZNAME:America/New_York EDT
END:DAYLIGHT
BEGIN:DAYLIGHT
DTSTART:20230312T030000
RDATE:20231105T010000
TZOFFSETFROM:-0500
TZOFFSETTO:-0400
TZNAME:America/New_York EDT
END:DAYLIGHT
BEGIN:DAYLIGHT
DTSTART:20240310T030000
RDATE:20241103T010000
TZOFFSETFROM:-0500
TZOFFSETTO:-0400
TZNAME:America/New_York EDT
END:DAYLIGHT
BEGIN:DAYLIGHT
DTSTART:20250309T030000
RDATE:20251102T010000
TZOFFSETFROM:-0500
TZOFFSETTO:-0400
TZNAME:America/New_York EDT
END:DAYLIGHT
BEGIN:DAYLIGHT
DTSTART:20260308T030000
RDATE:20261101T010000
TZOFFSETFROM:-0500
TZOFFSETTO:-0400
TZNAME:America/New_York EDT
END:DAYLIGHT
BEGIN:DAYLIGHT
DTSTART:20270314T030000
RDATE:20271107T010000
TZOFFSETFROM:-0500
TZOFFSETTO:-0400
TZNAME:America/New_York EDT
END:DAYLIGHT
BEGIN:DAYLIGHT
DTSTART:20280312T030000
RDATE:20281105T010000
TZOFFSETFROM:-0500
TZOFFSETTO:-0400
TZNAME:America/New_York EDT
END:DAYLIGHT
END:VTIMEZONE
BEGIN:VEVENT
UID:ff0f2c641cd772f15033c294a337bb8e
CATEGORIES:Testing
CREATED:20191214T111457
SUMMARY:Rank Testing
DESCRIPTION;ENCODING=QUOTED-PRINTABLE:<p style="text-align: center;"><strong>USWA Rank Testing December 14, 2019<
 /strong><br /> <strong>Rank Testing is located at the Virginia's</strong><b
 r /> <strong>United States Wushu Academy</strong><br /> <strong>2979 Prospe
 rity Avenue, Fairfax, VA 22031</strong><br /> <strong>703-698-8182</strong>
 </p><p><strong>Pre-Testing Rules</strong><br /> 1. Check in with the testin
 g official at least 30 minutes before Your Scheduled time<br /> 2. Rank Adv
 ancement Request Form has been approved and completed<br /> 3. Tardy studen
 ts WILL NOT ALLOW testing and will be rescheduled for next month<br /> 4. P
 roper Grooming and Full Complete Clean Uniform is required for testing<br /
 > 5. Students are responsible for their own warm-up and equipment<br /> &nb
 sp;<br /> <strong>1:05 PM Chen Style Taijiquan</strong></p><p>VA &nbsp; &nb
 sp; &nbsp; &nbsp;&nbsp; Sam Shrestha</p><p>New Chen Taiji Ceremony</p><p><s
 trong><br /> 1:15 PM Yang Style Taiji Sword</strong></p><p>VA&nbsp;&nbsp;&n
 bsp;&nbsp;&nbsp;&nbsp;&nbsp;&nbsp;&nbsp;&nbsp;Dante Picchione<br /> VA &nbs
 p; &nbsp; &nbsp; &nbsp;&nbsp; Moria O’Brien<br /> VA&nbsp;&nbsp;&nbsp;&nbsp
 ;&nbsp;&nbsp;&nbsp;&nbsp;&nbsp; Shelly Uhlir</p><p>New Yang Taiji Ceremony<
 /p><p><br /> <strong>1:30 PM Wushu Basic</strong></p><p>MD &nbsp; &nbsp; &n
 bsp; &nbsp;&nbsp; Yuchen Shao<br /> VA &nbsp; &nbsp; &nbsp; &nbsp; &nbsp; E
 than Peterson</p><p><strong>Wushu Individual Forms</strong></p><p>VA &nbsp;
  &nbsp; &nbsp; &nbsp; &nbsp; Ethan Peterson &nbsp; &nbsp; &nbsp;&nbsp; Basi
 c Sword<br /> MD &nbsp; &nbsp; &nbsp; &nbsp;&nbsp; Yuchen Shao&nbsp;&nbsp;&
 nbsp;&nbsp;&nbsp;&nbsp;&nbsp;&nbsp;&nbsp;&nbsp;&nbsp;Changquan</p><p>New Wu
 shu Rank Ceremony<br /> </p>
DTSTAMP:20260423T104208Z
DTSTART;TZID=America/New_York:20191214T130500
DTEND;TZID=America/New_York:20191214T140000
SEQUENCE:0
TRANSP:OPAQUE
END:VEVENT
END:VCALENDAR