BEGIN:VCALENDAR
VERSION:2.0
PRODID:-//jEvents 2.0 for Joomla//EN
CALSCALE:GREGORIAN
METHOD:PUBLISH
BEGIN:VTIMEZONE
TZID:America/New_York
BEGIN:STANDARD
DTSTART:20171214T080000
RDATE:20180311T030000
TZOFFSETFROM:-0400
TZOFFSETTO:-0500
TZNAME:America/New_York EST
END:STANDARD
BEGIN:STANDARD
DTSTART:20181104T010000
RDATE:20190310T030000
TZOFFSETFROM:-0400
TZOFFSETTO:-0500
TZNAME:America/New_York EST
END:STANDARD
BEGIN:STANDARD
DTSTART:20191103T010000
RDATE:20200308T030000
TZOFFSETFROM:-0400
TZOFFSETTO:-0500
TZNAME:America/New_York EST
END:STANDARD
BEGIN:STANDARD
DTSTART:20201101T010000
RDATE:20210314T030000
TZOFFSETFROM:-0400
TZOFFSETTO:-0500
TZNAME:America/New_York EST
END:STANDARD
BEGIN:STANDARD
DTSTART:20211107T010000
RDATE:20220313T030000
TZOFFSETFROM:-0400
TZOFFSETTO:-0500
TZNAME:America/New_York EST
END:STANDARD
BEGIN:STANDARD
DTSTART:20221106T010000
RDATE:20230312T030000
TZOFFSETFROM:-0400
TZOFFSETTO:-0500
TZNAME:America/New_York EST
END:STANDARD
BEGIN:STANDARD
DTSTART:20231105T010000
RDATE:20240310T030000
TZOFFSETFROM:-0400
TZOFFSETTO:-0500
TZNAME:America/New_York EST
END:STANDARD
BEGIN:STANDARD
DTSTART:20241103T010000
RDATE:20250309T030000
TZOFFSETFROM:-0400
TZOFFSETTO:-0500
TZNAME:America/New_York EST
END:STANDARD
BEGIN:STANDARD
DTSTART:20251102T010000
RDATE:20260308T030000
TZOFFSETFROM:-0400
TZOFFSETTO:-0500
TZNAME:America/New_York EST
END:STANDARD
BEGIN:STANDARD
DTSTART:20261101T010000
RDATE:20270314T030000
TZOFFSETFROM:-0400
TZOFFSETTO:-0500
TZNAME:America/New_York EST
END:STANDARD
BEGIN:STANDARD
DTSTART:20271107T010000
RDATE:20280312T030000
TZOFFSETFROM:-0400
TZOFFSETTO:-0500
TZNAME:America/New_York EST
END:STANDARD
BEGIN:STANDARD
DTSTART:20281105T010000
RDATE:20290311T030000
TZOFFSETFROM:-0400
TZOFFSETTO:-0500
TZNAME:America/New_York EST
END:STANDARD
BEGIN:DAYLIGHT
DTSTART:20180311T030000
RDATE:20181104T010000
TZOFFSETFROM:-0500
TZOFFSETTO:-0400
TZNAME:America/New_York EDT
END:DAYLIGHT
BEGIN:DAYLIGHT
DTSTART:20190310T030000
RDATE:20191103T010000
TZOFFSETFROM:-0500
TZOFFSETTO:-0400
TZNAME:America/New_York EDT
END:DAYLIGHT
BEGIN:DAYLIGHT
DTSTART:20200308T030000
RDATE:20201101T010000
TZOFFSETFROM:-0500
TZOFFSETTO:-0400
TZNAME:America/New_York EDT
END:DAYLIGHT
BEGIN:DAYLIGHT
DTSTART:20210314T030000
RDATE:20211107T010000
TZOFFSETFROM:-0500
TZOFFSETTO:-0400
TZNAME:America/New_York EDT
END:DAYLIGHT
BEGIN:DAYLIGHT
DTSTART:20220313T030000
RDATE:20221106T010000
TZOFFSETFROM:-0500
TZOFFSETTO:-0400
TZNAME:America/New_York EDT
END:DAYLIGHT
BEGIN:DAYLIGHT
DTSTART:20230312T030000
RDATE:20231105T010000
TZOFFSETFROM:-0500
TZOFFSETTO:-0400
TZNAME:America/New_York EDT
END:DAYLIGHT
BEGIN:DAYLIGHT
DTSTART:20240310T030000
RDATE:20241103T010000
TZOFFSETFROM:-0500
TZOFFSETTO:-0400
TZNAME:America/New_York EDT
END:DAYLIGHT
BEGIN:DAYLIGHT
DTSTART:20250309T030000
RDATE:20251102T010000
TZOFFSETFROM:-0500
TZOFFSETTO:-0400
TZNAME:America/New_York EDT
END:DAYLIGHT
BEGIN:DAYLIGHT
DTSTART:20260308T030000
RDATE:20261101T010000
TZOFFSETFROM:-0500
TZOFFSETTO:-0400
TZNAME:America/New_York EDT
END:DAYLIGHT
BEGIN:DAYLIGHT
DTSTART:20270314T030000
RDATE:20271107T010000
TZOFFSETFROM:-0500
TZOFFSETTO:-0400
TZNAME:America/New_York EDT
END:DAYLIGHT
BEGIN:DAYLIGHT
DTSTART:20280312T030000
RDATE:20281105T010000
TZOFFSETFROM:-0500
TZOFFSETTO:-0400
TZNAME:America/New_York EDT
END:DAYLIGHT
END:VTIMEZONE
BEGIN:VEVENT
UID:cd5880a605c52c863cd8da4c64817e3b
CATEGORIES:Testing
CREATED:20181215T120533
SUMMARY:Rank Testing List
DESCRIPTION;ENCODING=QUOTED-PRINTABLE:\n\nDecember Rank Testing\n\n\nSaturday, December 15, 2018,&nbsp;1:15pm&nbs
 p;-&nbsp;2:00pm\n\n\nby CoachPei\n\n\nUSWA Rank Testing\n\n\nRank Testing i
 s located at the Virginia's\n\n\nUnited States Wushu Academy\n\n\n2979 Pros
 perity Avenue, Fairfax, VA 22031\n\n\n703-698-8182\n\n\nPre-Testing Rules\n
 \n - Check in with the testing official at least 30 minutes before Your Sch
 eduled time\n - Rank Advancement Request Form has been approved and complet
 ed\n - Tardy students WILL NOT ALLOW testing and will be rescheduled for ne
 xt month\n - Proper Grooming and Full Complete Clean Uniform is required fo
 r testing\n - Students are responsible for their own warm-up and equipment\
 n\n1:15 PM Wushu Routines\n\n\nMD&nbsp;&nbsp;&nbsp;&nbsp;&nbsp;&nbsp;Leon W
 ang&nbsp;&nbsp;&nbsp;&nbsp;&nbsp;&nbsp;&nbsp; Basic Form\n\n\nMD&nbsp; &nbs
 p; &nbsp; Julia Liu &nbsp; &nbsp; &nbsp; &nbsp; &nbsp; &nbsp; Basic Form\n\
 n\nMD&nbsp;&nbsp;&nbsp;&nbsp;&nbsp;&nbsp;&nbsp;Jonathan Shan&nbsp;&nbsp; Ba
 sic Form\n\n\nMD&nbsp;&nbsp;&nbsp;&nbsp;&nbsp;&nbsp;&nbsp;Yuchen Cai&nbsp;&
 nbsp;&nbsp;&nbsp;&nbsp;&nbsp; Basic Form\n\n\nMD&nbsp;&nbsp;&nbsp;&nbsp;&nb
 sp;&nbsp;Leon Wang&nbsp;&nbsp;&nbsp;&nbsp;&nbsp;&nbsp;&nbsp; Basic Staff\n\
 n\nMD&nbsp; &nbsp; &nbsp; Julia Liu &nbsp; &nbsp; &nbsp; &nbsp; &nbsp; &nbs
 p; Basic Staff\n\n\nMD&nbsp;&nbsp;&nbsp;&nbsp;&nbsp;&nbsp;&nbsp;Jonathan Sh
 an&nbsp;&nbsp; Basic Staff\n\n\nMD&nbsp;&nbsp;&nbsp;&nbsp;&nbsp;&nbsp;&nbsp
 ;Yuchen Cai&nbsp;&nbsp;&nbsp;&nbsp;&nbsp;&nbsp; Basic Staff\n\n\nMD&nbsp;&n
 bsp;&nbsp;&nbsp;&nbsp;&nbsp;Leon Wang&nbsp;&nbsp;&nbsp;&nbsp;&nbsp;&nbsp;&n
 bsp; Basic Broadsword\n\n\nMD&nbsp; &nbsp; &nbsp; Julia Liu &nbsp; &nbsp; &
 nbsp; &nbsp; &nbsp; &nbsp; Basic Broadsword\n\n\nMD&nbsp;&nbsp;&nbsp;&nbsp;
 &nbsp;&nbsp;&nbsp;Jonathan Shan&nbsp;&nbsp; Basic Broadsword\n\n\nMD&nbsp;&
 nbsp;&nbsp;&nbsp;&nbsp;&nbsp;&nbsp;Yuchen Cai&nbsp;&nbsp;&nbsp;&nbsp;&nbsp;
 &nbsp; Basic Sword\n\n\nNew Wushu Rank Ceremony\n
DTSTAMP:20260424T064116Z
DTSTART;TZID=America/New_York:20181215T080000
DTEND;TZID=America/New_York:20181215T170000
SEQUENCE:0
TRANSP:OPAQUE
END:VEVENT
END:VCALENDAR