BEGIN:VCALENDAR
VERSION:2.0
PRODID:-//jEvents 2.0 for Joomla//EN
CALSCALE:GREGORIAN
METHOD:PUBLISH
BEGIN:VTIMEZONE
TZID:America/New_York
BEGIN:STANDARD
DTSTART:20171105T010000
RDATE:20180311T030000
TZOFFSETFROM:-0400
TZOFFSETTO:-0500
TZNAME:America/New_York EST
END:STANDARD
BEGIN:STANDARD
DTSTART:20181104T010000
RDATE:20190310T030000
TZOFFSETFROM:-0400
TZOFFSETTO:-0500
TZNAME:America/New_York EST
END:STANDARD
BEGIN:STANDARD
DTSTART:20191103T010000
RDATE:20200308T030000
TZOFFSETFROM:-0400
TZOFFSETTO:-0500
TZNAME:America/New_York EST
END:STANDARD
BEGIN:STANDARD
DTSTART:20201101T010000
RDATE:20210314T030000
TZOFFSETFROM:-0400
TZOFFSETTO:-0500
TZNAME:America/New_York EST
END:STANDARD
BEGIN:STANDARD
DTSTART:20211107T010000
RDATE:20220313T030000
TZOFFSETFROM:-0400
TZOFFSETTO:-0500
TZNAME:America/New_York EST
END:STANDARD
BEGIN:STANDARD
DTSTART:20221106T010000
RDATE:20230312T030000
TZOFFSETFROM:-0400
TZOFFSETTO:-0500
TZNAME:America/New_York EST
END:STANDARD
BEGIN:STANDARD
DTSTART:20231105T010000
RDATE:20240310T030000
TZOFFSETFROM:-0400
TZOFFSETTO:-0500
TZNAME:America/New_York EST
END:STANDARD
BEGIN:STANDARD
DTSTART:20241103T010000
RDATE:20250309T030000
TZOFFSETFROM:-0400
TZOFFSETTO:-0500
TZNAME:America/New_York EST
END:STANDARD
BEGIN:STANDARD
DTSTART:20251102T010000
RDATE:20260308T030000
TZOFFSETFROM:-0400
TZOFFSETTO:-0500
TZNAME:America/New_York EST
END:STANDARD
BEGIN:STANDARD
DTSTART:20261101T010000
RDATE:20270314T030000
TZOFFSETFROM:-0400
TZOFFSETTO:-0500
TZNAME:America/New_York EST
END:STANDARD
BEGIN:STANDARD
DTSTART:20271107T010000
RDATE:20280312T030000
TZOFFSETFROM:-0400
TZOFFSETTO:-0500
TZNAME:America/New_York EST
END:STANDARD
BEGIN:STANDARD
DTSTART:20281105T010000
RDATE:20290311T030000
TZOFFSETFROM:-0400
TZOFFSETTO:-0500
TZNAME:America/New_York EST
END:STANDARD
BEGIN:DAYLIGHT
DTSTART:20170615T131500
RDATE:20171105T010000
TZOFFSETFROM:-0500
TZOFFSETTO:-0400
TZNAME:America/New_York EDT
END:DAYLIGHT
BEGIN:DAYLIGHT
DTSTART:20180311T030000
RDATE:20181104T010000
TZOFFSETFROM:-0500
TZOFFSETTO:-0400
TZNAME:America/New_York EDT
END:DAYLIGHT
BEGIN:DAYLIGHT
DTSTART:20190310T030000
RDATE:20191103T010000
TZOFFSETFROM:-0500
TZOFFSETTO:-0400
TZNAME:America/New_York EDT
END:DAYLIGHT
BEGIN:DAYLIGHT
DTSTART:20200308T030000
RDATE:20201101T010000
TZOFFSETFROM:-0500
TZOFFSETTO:-0400
TZNAME:America/New_York EDT
END:DAYLIGHT
BEGIN:DAYLIGHT
DTSTART:20210314T030000
RDATE:20211107T010000
TZOFFSETFROM:-0500
TZOFFSETTO:-0400
TZNAME:America/New_York EDT
END:DAYLIGHT
BEGIN:DAYLIGHT
DTSTART:20220313T030000
RDATE:20221106T010000
TZOFFSETFROM:-0500
TZOFFSETTO:-0400
TZNAME:America/New_York EDT
END:DAYLIGHT
BEGIN:DAYLIGHT
DTSTART:20230312T030000
RDATE:20231105T010000
TZOFFSETFROM:-0500
TZOFFSETTO:-0400
TZNAME:America/New_York EDT
END:DAYLIGHT
BEGIN:DAYLIGHT
DTSTART:20240310T030000
RDATE:20241103T010000
TZOFFSETFROM:-0500
TZOFFSETTO:-0400
TZNAME:America/New_York EDT
END:DAYLIGHT
BEGIN:DAYLIGHT
DTSTART:20250309T030000
RDATE:20251102T010000
TZOFFSETFROM:-0500
TZOFFSETTO:-0400
TZNAME:America/New_York EDT
END:DAYLIGHT
BEGIN:DAYLIGHT
DTSTART:20260308T030000
RDATE:20261101T010000
TZOFFSETFROM:-0500
TZOFFSETTO:-0400
TZNAME:America/New_York EDT
END:DAYLIGHT
BEGIN:DAYLIGHT
DTSTART:20270314T030000
RDATE:20271107T010000
TZOFFSETFROM:-0500
TZOFFSETTO:-0400
TZNAME:America/New_York EDT
END:DAYLIGHT
BEGIN:DAYLIGHT
DTSTART:20280312T030000
RDATE:20281105T010000
TZOFFSETFROM:-0500
TZOFFSETTO:-0400
TZNAME:America/New_York EDT
END:DAYLIGHT
END:VTIMEZONE
BEGIN:VEVENT
UID:19b769d963c537c7f7e837c5d5a18296
CATEGORIES:Testing
CREATED:20180616T081459
SUMMARY:June Rank Testing
DESCRIPTION;ENCODING=QUOTED-PRINTABLE:\n\nRank Testing\n\n\nSaturday, June 16, 2018\n\n\nRank Testing is located 
 at the Virginia's\nUnited States Wushu Academy\n2979 Prosperity Avenue, Fai
 rfax, VA 22031\n703-698-8182\nPre-Testing Rules\n1. Check in with the testi
 ng official at least 30 minutes before Your Scheduled time\n2. Rank Advance
 ment Request Form has been approved and completed\n3. Tardy students WILL N
 OT ALLOW testing and will be rescheduled for next month\n4. Proper Grooming
  and Full Complete Clean Uniform is required for testing\n5. Students are r
 esponsible for their own warm-up and equipment\n\n\n1:15 PM Wushu Basic\nMD
 &nbsp;&nbsp;&nbsp;&nbsp;&nbsp;&nbsp;&nbsp;Waley Wang&nbsp;\nMD&nbsp;&nbsp;&
 nbsp;&nbsp;&nbsp;&nbsp;&nbsp;Yuchen Cai\nMD&nbsp;&nbsp;&nbsp;&nbsp;&nbsp;&n
 bsp;&nbsp;Jonathan Shan\nMD&nbsp;&nbsp;&nbsp;&nbsp;&nbsp;&nbsp;&nbsp;Linh L
 e\nMD&nbsp;&nbsp;&nbsp;&nbsp;&nbsp;&nbsp;&nbsp;Ethan Condon\nMD&nbsp;&nbsp;
 &nbsp;&nbsp;&nbsp;&nbsp;&nbsp;Kristine Lam\nVA&nbsp;&nbsp;&nbsp;&nbsp;&nbsp
 ;&nbsp;&nbsp;&nbsp;Grant Bui\nMD&nbsp;&nbsp;&nbsp;&nbsp;&nbsp;&nbsp;&nbsp;J
 effrey Soo\nMD&nbsp;&nbsp;&nbsp;&nbsp;&nbsp;&nbsp;&nbsp;Austin Wuren\n\n\n\
 nWushu Individual Routines\nMD&nbsp;&nbsp;&nbsp;&nbsp;&nbsp;&nbsp;&nbsp;Aus
 tin Wuren &nbsp; &nbsp; &nbsp; &nbsp; &nbsp; &nbsp; &nbsp;Basic Form\nMD&nb
 sp;&nbsp;&nbsp;&nbsp;&nbsp;&nbsp;&nbsp;Jeffrey Soo&nbsp;&nbsp;&nbsp;&nbsp;&
 nbsp;&nbsp;&nbsp;&nbsp;&nbsp;&nbsp;&nbsp;&nbsp;&nbsp;&nbsp;&nbsp;&nbsp;&nbs
 p;&nbsp;Basic Form\nVA&nbsp;&nbsp;&nbsp;&nbsp;&nbsp;&nbsp;&nbsp;&nbsp;Grant
  Bui&nbsp;&nbsp;&nbsp;&nbsp;&nbsp;&nbsp;&nbsp;&nbsp;&nbsp;&nbsp;&nbsp;&nbsp
 ;&nbsp;&nbsp;&nbsp;&nbsp;&nbsp;&nbsp;&nbsp;&nbsp;&nbsp;Basic Form\nMD&nbsp;
 &nbsp;&nbsp;&nbsp;&nbsp;&nbsp;&nbsp;Kristine Lam&nbsp;&nbsp;&nbsp;&nbsp;&nb
 sp;&nbsp;&nbsp;&nbsp;&nbsp;&nbsp;&nbsp;&nbsp;&nbsp;&nbsp;&nbsp;&nbsp;Basic 
 Form\nMD&nbsp;&nbsp;&nbsp;&nbsp;&nbsp;&nbsp;&nbsp;Ethan Condon&nbsp;&nbsp;&
 nbsp;&nbsp;&nbsp;&nbsp;&nbsp;&nbsp;&nbsp;&nbsp;&nbsp;&nbsp;&nbsp;Basic Form
 \nMD&nbsp;&nbsp;&nbsp;&nbsp;&nbsp;&nbsp;&nbsp;Linh Le&nbsp; &nbsp; &nbsp; &
 nbsp; &nbsp; &nbsp; &nbsp; &nbsp; &nbsp; &nbsp; &nbsp; &nbsp;&nbsp;Basic St
 aff\nMD&nbsp;&nbsp;&nbsp;&nbsp;&nbsp;&nbsp;&nbsp;Jonathan Shan&nbsp;&nbsp;&
 nbsp;&nbsp;&nbsp;&nbsp;&nbsp;&nbsp;&nbsp;&nbsp;&nbsp;&nbsp;Basic Broadsword
 \nMD&nbsp;&nbsp;&nbsp;&nbsp;&nbsp;&nbsp;&nbsp;Yuchen Cai&nbsp;&nbsp;&nbsp;&
 nbsp;&nbsp;&nbsp;&nbsp;&nbsp;&nbsp;&nbsp;&nbsp;&nbsp;&nbsp;&nbsp;&nbsp;&nbs
 p;&nbsp;Basic Sword\nMD&nbsp;&nbsp;&nbsp;&nbsp;&nbsp;&nbsp;&nbsp;Waley Wang
 &nbsp;&nbsp;&nbsp;&nbsp;&nbsp;&nbsp;&nbsp;&nbsp;&nbsp;&nbsp;&nbsp;&nbsp;&nb
 sp;&nbsp;&nbsp;&nbsp;Spear\n\n\n\nWushu New Rank Ceremony\n
DTSTAMP:20260424T172201Z
DTSTART;TZID=America/New_York:20180616T131500
DTEND;TZID=America/New_York:20180616T143000
SEQUENCE:0
TRANSP:OPAQUE
END:VEVENT
END:VCALENDAR