BEGIN:VCALENDAR
VERSION:2.0
PRODID:-//jEvents 2.0 for Joomla//EN
CALSCALE:GREGORIAN
METHOD:PUBLISH
BEGIN:VTIMEZONE
TZID:America/New_York
BEGIN:STANDARD
DTSTART:20170209T080000
RDATE:20170312T030000
TZOFFSETFROM:-0400
TZOFFSETTO:-0500
TZNAME:America/New_York EST
END:STANDARD
BEGIN:STANDARD
DTSTART:20171105T010000
RDATE:20180311T030000
TZOFFSETFROM:-0400
TZOFFSETTO:-0500
TZNAME:America/New_York EST
END:STANDARD
BEGIN:STANDARD
DTSTART:20181104T010000
RDATE:20190310T030000
TZOFFSETFROM:-0400
TZOFFSETTO:-0500
TZNAME:America/New_York EST
END:STANDARD
BEGIN:STANDARD
DTSTART:20191103T010000
RDATE:20200308T030000
TZOFFSETFROM:-0400
TZOFFSETTO:-0500
TZNAME:America/New_York EST
END:STANDARD
BEGIN:STANDARD
DTSTART:20201101T010000
RDATE:20210314T030000
TZOFFSETFROM:-0400
TZOFFSETTO:-0500
TZNAME:America/New_York EST
END:STANDARD
BEGIN:STANDARD
DTSTART:20211107T010000
RDATE:20220313T030000
TZOFFSETFROM:-0400
TZOFFSETTO:-0500
TZNAME:America/New_York EST
END:STANDARD
BEGIN:STANDARD
DTSTART:20221106T010000
RDATE:20230312T030000
TZOFFSETFROM:-0400
TZOFFSETTO:-0500
TZNAME:America/New_York EST
END:STANDARD
BEGIN:STANDARD
DTSTART:20231105T010000
RDATE:20240310T030000
TZOFFSETFROM:-0400
TZOFFSETTO:-0500
TZNAME:America/New_York EST
END:STANDARD
BEGIN:STANDARD
DTSTART:20241103T010000
RDATE:20250309T030000
TZOFFSETFROM:-0400
TZOFFSETTO:-0500
TZNAME:America/New_York EST
END:STANDARD
BEGIN:STANDARD
DTSTART:20251102T010000
RDATE:20260308T030000
TZOFFSETFROM:-0400
TZOFFSETTO:-0500
TZNAME:America/New_York EST
END:STANDARD
BEGIN:STANDARD
DTSTART:20261101T010000
RDATE:20270314T030000
TZOFFSETFROM:-0400
TZOFFSETTO:-0500
TZNAME:America/New_York EST
END:STANDARD
BEGIN:STANDARD
DTSTART:20271107T010000
RDATE:20280312T030000
TZOFFSETFROM:-0400
TZOFFSETTO:-0500
TZNAME:America/New_York EST
END:STANDARD
BEGIN:STANDARD
DTSTART:20281105T010000
RDATE:20290311T030000
TZOFFSETFROM:-0400
TZOFFSETTO:-0500
TZNAME:America/New_York EST
END:STANDARD
BEGIN:DAYLIGHT
DTSTART:20170312T030000
RDATE:20171105T010000
TZOFFSETFROM:-0500
TZOFFSETTO:-0400
TZNAME:America/New_York EDT
END:DAYLIGHT
BEGIN:DAYLIGHT
DTSTART:20180311T030000
RDATE:20181104T010000
TZOFFSETFROM:-0500
TZOFFSETTO:-0400
TZNAME:America/New_York EDT
END:DAYLIGHT
BEGIN:DAYLIGHT
DTSTART:20190310T030000
RDATE:20191103T010000
TZOFFSETFROM:-0500
TZOFFSETTO:-0400
TZNAME:America/New_York EDT
END:DAYLIGHT
BEGIN:DAYLIGHT
DTSTART:20200308T030000
RDATE:20201101T010000
TZOFFSETFROM:-0500
TZOFFSETTO:-0400
TZNAME:America/New_York EDT
END:DAYLIGHT
BEGIN:DAYLIGHT
DTSTART:20210314T030000
RDATE:20211107T010000
TZOFFSETFROM:-0500
TZOFFSETTO:-0400
TZNAME:America/New_York EDT
END:DAYLIGHT
BEGIN:DAYLIGHT
DTSTART:20220313T030000
RDATE:20221106T010000
TZOFFSETFROM:-0500
TZOFFSETTO:-0400
TZNAME:America/New_York EDT
END:DAYLIGHT
BEGIN:DAYLIGHT
DTSTART:20230312T030000
RDATE:20231105T010000
TZOFFSETFROM:-0500
TZOFFSETTO:-0400
TZNAME:America/New_York EDT
END:DAYLIGHT
BEGIN:DAYLIGHT
DTSTART:20240310T030000
RDATE:20241103T010000
TZOFFSETFROM:-0500
TZOFFSETTO:-0400
TZNAME:America/New_York EDT
END:DAYLIGHT
BEGIN:DAYLIGHT
DTSTART:20250309T030000
RDATE:20251102T010000
TZOFFSETFROM:-0500
TZOFFSETTO:-0400
TZNAME:America/New_York EDT
END:DAYLIGHT
BEGIN:DAYLIGHT
DTSTART:20260308T030000
RDATE:20261101T010000
TZOFFSETFROM:-0500
TZOFFSETTO:-0400
TZNAME:America/New_York EDT
END:DAYLIGHT
BEGIN:DAYLIGHT
DTSTART:20270314T030000
RDATE:20271107T010000
TZOFFSETFROM:-0500
TZOFFSETTO:-0400
TZNAME:America/New_York EDT
END:DAYLIGHT
BEGIN:DAYLIGHT
DTSTART:20280312T030000
RDATE:20281105T010000
TZOFFSETFROM:-0500
TZOFFSETTO:-0400
TZNAME:America/New_York EDT
END:DAYLIGHT
END:VTIMEZONE
BEGIN:VEVENT
UID:d349c18001447a9edb0894907a2750ba
CATEGORIES:Testing
CREATED:20180210T103448
SUMMARY:Rank Testing
DESCRIPTION;ENCODING=QUOTED-PRINTABLE:<p>USWA Rank Testing February 10, 2018<br />Rank Testing is located at the 
 Virginia's<br />United States Wushu Academy<br />2979 Prosperity Avenue, Fa
 irfax, VA 22031<br />703-698-8182<br />Pre-Testing Rules<br />1. Check in w
 ith the testing official at least 30 minutes before Your Scheduled time<br 
 />2. Rank Advancement Request Form has been approved and completed<br />3. 
 Tardy students WILL NOT ALLOW testing and will be rescheduled for next mont
 h<br />4. Proper Grooming and Full Complete Clean Uniform is required for t
 esting<br />5. Students are responsible for their own warm-up and equipment
 </p><p><br /><strong><span style="text-decoration: underline;">1:05 PM Yang
  Style Taijiquan</span></strong></p><p>VA Giulia Askins<br />MD William Bur
 r<br /><span style="text-decoration: underline;"><strong>Taiji New Rank Cer
 emony</strong></span></p><p>&nbsp;</p><p><span style="text-decoration: unde
 rline;"><strong>1:25 PM Wushu Basic</strong></span><br />VA Hudaif Fafa<br 
 />MD Angela Shen<br />MD Peter Guo<br />MD Julie Liu<br />MD Yuchen Cai<br 
 />VA Marisa Mintzer<br />VA Abigail Mintzer</p><p><br /><span style="text-d
 ecoration: underline;"><strong>Wushu Individual Routines</strong></span><br
  />MD Albert Liu &nbsp; &nbsp; &nbsp; &nbsp;&nbsp; Basic Form<br />MD Evan 
 Mao &nbsp; &nbsp; &nbsp; &nbsp; Basic Form<br />VA Abigail Mintzer&nbsp; Ba
 sic Staff<br />VA Marisa Mintzer&nbsp; Basic Staff<br />MD Yuchen Cai &nbsp
 ; &nbsp;&nbsp; Basic Staff<br />MD Julie Liu &nbsp; &nbsp; &nbsp; &nbsp; &n
 bsp; Basic Staff<br />MD Albert Liu &nbsp; &nbsp; &nbsp; &nbsp; Basic Staff
 <br />MD Evan Mao &nbsp; &nbsp; &nbsp;&nbsp; Basci Staff<br />MD Peter Guo 
 &nbsp; &nbsp; &nbsp;&nbsp; Basic Broadsword<br />MD Angela Shen &nbsp; Basi
 c Braodsword<br />VA Hudaif Fafa &nbsp; &nbsp;&nbsp; Basic Broadsword<br />
 MD Albert Liu &nbsp; &nbsp; &nbsp;&nbsp; Basic Broadsword<br />MD Evan Mao 
 &nbsp; &nbsp; &nbsp; Basic Sword</p><p><span style="text-decoration: underl
 ine;"><strong>Wushu New Rank Ceremony</strong></span></p>
DTSTAMP:20260424T232322Z
DTSTART;TZID=America/New_York:20180210T080000
DTEND;TZID=America/New_York:20180210T170000
SEQUENCE:0
TRANSP:OPAQUE
END:VEVENT
END:VCALENDAR