BEGIN:VCALENDAR
VERSION:2.0
PRODID:-//jEvents 2.0 for Joomla//EN
CALSCALE:GREGORIAN
METHOD:PUBLISH
BEGIN:VTIMEZONE
TZID:America/New_York
BEGIN:STANDARD
DTSTART:20161117T131000
RDATE:20170312T030000
TZOFFSETFROM:-0400
TZOFFSETTO:-0500
TZNAME:America/New_York EST
END:STANDARD
BEGIN:STANDARD
DTSTART:20171105T010000
RDATE:20180311T030000
TZOFFSETFROM:-0400
TZOFFSETTO:-0500
TZNAME:America/New_York EST
END:STANDARD
BEGIN:STANDARD
DTSTART:20181104T010000
RDATE:20190310T030000
TZOFFSETFROM:-0400
TZOFFSETTO:-0500
TZNAME:America/New_York EST
END:STANDARD
BEGIN:STANDARD
DTSTART:20191103T010000
RDATE:20200308T030000
TZOFFSETFROM:-0400
TZOFFSETTO:-0500
TZNAME:America/New_York EST
END:STANDARD
BEGIN:STANDARD
DTSTART:20201101T010000
RDATE:20210314T030000
TZOFFSETFROM:-0400
TZOFFSETTO:-0500
TZNAME:America/New_York EST
END:STANDARD
BEGIN:STANDARD
DTSTART:20211107T010000
RDATE:20220313T030000
TZOFFSETFROM:-0400
TZOFFSETTO:-0500
TZNAME:America/New_York EST
END:STANDARD
BEGIN:STANDARD
DTSTART:20221106T010000
RDATE:20230312T030000
TZOFFSETFROM:-0400
TZOFFSETTO:-0500
TZNAME:America/New_York EST
END:STANDARD
BEGIN:STANDARD
DTSTART:20231105T010000
RDATE:20240310T030000
TZOFFSETFROM:-0400
TZOFFSETTO:-0500
TZNAME:America/New_York EST
END:STANDARD
BEGIN:STANDARD
DTSTART:20241103T010000
RDATE:20250309T030000
TZOFFSETFROM:-0400
TZOFFSETTO:-0500
TZNAME:America/New_York EST
END:STANDARD
BEGIN:STANDARD
DTSTART:20251102T010000
RDATE:20260308T030000
TZOFFSETFROM:-0400
TZOFFSETTO:-0500
TZNAME:America/New_York EST
END:STANDARD
BEGIN:STANDARD
DTSTART:20261101T010000
RDATE:20270314T030000
TZOFFSETFROM:-0400
TZOFFSETTO:-0500
TZNAME:America/New_York EST
END:STANDARD
BEGIN:STANDARD
DTSTART:20271107T010000
RDATE:20280312T030000
TZOFFSETFROM:-0400
TZOFFSETTO:-0500
TZNAME:America/New_York EST
END:STANDARD
BEGIN:STANDARD
DTSTART:20281105T010000
RDATE:20290311T030000
TZOFFSETFROM:-0400
TZOFFSETTO:-0500
TZNAME:America/New_York EST
END:STANDARD
BEGIN:DAYLIGHT
DTSTART:20170312T030000
RDATE:20171105T010000
TZOFFSETFROM:-0500
TZOFFSETTO:-0400
TZNAME:America/New_York EDT
END:DAYLIGHT
BEGIN:DAYLIGHT
DTSTART:20180311T030000
RDATE:20181104T010000
TZOFFSETFROM:-0500
TZOFFSETTO:-0400
TZNAME:America/New_York EDT
END:DAYLIGHT
BEGIN:DAYLIGHT
DTSTART:20190310T030000
RDATE:20191103T010000
TZOFFSETFROM:-0500
TZOFFSETTO:-0400
TZNAME:America/New_York EDT
END:DAYLIGHT
BEGIN:DAYLIGHT
DTSTART:20200308T030000
RDATE:20201101T010000
TZOFFSETFROM:-0500
TZOFFSETTO:-0400
TZNAME:America/New_York EDT
END:DAYLIGHT
BEGIN:DAYLIGHT
DTSTART:20210314T030000
RDATE:20211107T010000
TZOFFSETFROM:-0500
TZOFFSETTO:-0400
TZNAME:America/New_York EDT
END:DAYLIGHT
BEGIN:DAYLIGHT
DTSTART:20220313T030000
RDATE:20221106T010000
TZOFFSETFROM:-0500
TZOFFSETTO:-0400
TZNAME:America/New_York EDT
END:DAYLIGHT
BEGIN:DAYLIGHT
DTSTART:20230312T030000
RDATE:20231105T010000
TZOFFSETFROM:-0500
TZOFFSETTO:-0400
TZNAME:America/New_York EDT
END:DAYLIGHT
BEGIN:DAYLIGHT
DTSTART:20240310T030000
RDATE:20241103T010000
TZOFFSETFROM:-0500
TZOFFSETTO:-0400
TZNAME:America/New_York EDT
END:DAYLIGHT
BEGIN:DAYLIGHT
DTSTART:20250309T030000
RDATE:20251102T010000
TZOFFSETFROM:-0500
TZOFFSETTO:-0400
TZNAME:America/New_York EDT
END:DAYLIGHT
BEGIN:DAYLIGHT
DTSTART:20260308T030000
RDATE:20261101T010000
TZOFFSETFROM:-0500
TZOFFSETTO:-0400
TZNAME:America/New_York EDT
END:DAYLIGHT
BEGIN:DAYLIGHT
DTSTART:20270314T030000
RDATE:20271107T010000
TZOFFSETFROM:-0500
TZOFFSETTO:-0400
TZNAME:America/New_York EDT
END:DAYLIGHT
BEGIN:DAYLIGHT
DTSTART:20280312T030000
RDATE:20281105T010000
TZOFFSETFROM:-0500
TZOFFSETTO:-0400
TZNAME:America/New_York EDT
END:DAYLIGHT
END:VTIMEZONE
BEGIN:VEVENT
UID:a3b12b6ee26aac17bc85a6422f4e7013
CATEGORIES:Testing
CREATED:20171117T103409
SUMMARY:Rank Testing
LOCATION:VA  Academy
DESCRIPTION;ENCODING=QUOTED-PRINTABLE:<p>USWA Rank Testing November 18, 2017</p><p>Rank Testing is located at the
  Virginia's Academy</p><p>2979 Prosperity Avenue, Fairfax, VA 22031</p><p>7
 03-698-8182</p><p><strong><span style="text-decoration: underline;">Pre-Tes
 ting Rules</span></strong></p><ol><li>Check in with the testing official at
  least 30 minutes before Your Scheduled time</li><li>Rank Advancement Reque
 st Form has been approved and completed</li><li>Tardy students WILL NOT ALL
 OW testing and will be rescheduled for next month</li><li>Proper Grooming a
 nd Full Complete Clean Uniform is required for testing</li><li>Students are
  responsible for their own warm-up and equipment</li></ol><p><strong>1:10 P
 M Wushu Basic Testing</strong></p><p>VA&nbsp;&nbsp; Elliot Hsu<br /> VA&nbs
 p;&nbsp; Jackie Zhu</p><p><strong>1:20 PM Wushu Individual Testing</strong>
 </p><p>MD&nbsp;&nbsp; Aiden Fang&nbsp;&nbsp;&nbsp;&nbsp;&nbsp;&nbsp;&nbsp;&
 nbsp;&nbsp;&nbsp;&nbsp; Basic Form<br /> VA&nbsp;&nbsp; Tony Wang &nbsp; &n
 bsp; &nbsp; &nbsp; &nbsp; &nbsp; &nbsp;Basic Form<br /> MD&nbsp;&nbsp; Angi
 e Sun &nbsp; &nbsp; &nbsp; &nbsp; &nbsp; &nbsp; &nbsp;Basic Form<br /> MD&n
 bsp;&nbsp; Audrey Wang&nbsp;&nbsp;&nbsp;&nbsp;&nbsp;&nbsp;&nbsp;&nbsp; Basi
 c Form<br /> VA&nbsp;&nbsp; Benjamin Thong &nbsp; &nbsp; Basic Form<br /> V
 A&nbsp;&nbsp; Elliott Hsu &nbsp; &nbsp; &nbsp; &nbsp; &nbsp; &nbsp; &nbsp; 
 Basic Staff<br /> VA&nbsp;&nbsp; Jackie Zhu&nbsp;&nbsp;&nbsp;&nbsp;&nbsp;&n
 bsp;&nbsp;&nbsp;&nbsp;&nbsp;&nbsp;&nbsp;&nbsp; Basic Staff<br /> MD&nbsp;&n
 bsp; Aiden Fang&nbsp;&nbsp;&nbsp;&nbsp;&nbsp;&nbsp;&nbsp;&nbsp;&nbsp;&nbsp;
 &nbsp; Basic Staff<br /> VA&nbsp;&nbsp; Tony Wang &nbsp; &nbsp; &nbsp; &nbs
 p; &nbsp; &nbsp; &nbsp;Basic Staff<br /> MD&nbsp;&nbsp; Angie Sun&nbsp;&nbs
 p;&nbsp;&nbsp;&nbsp;&nbsp;&nbsp;&nbsp;&nbsp;&nbsp;&nbsp;&nbsp; Basic Staff<
 br /> MD&nbsp;&nbsp; Audrey Wang&nbsp;&nbsp;&nbsp;&nbsp;&nbsp;&nbsp;&nbsp;&
 nbsp; Basic Staff<br /> VA&nbsp;&nbsp; Benjamin Thong&nbsp;&nbsp;&nbsp;&nbs
 p;&nbsp; Basic Staff<br /> MD&nbsp;&nbsp; Aiden Fang&nbsp;&nbsp;&nbsp;&nbsp
 ;&nbsp;&nbsp;&nbsp;&nbsp;&nbsp;&nbsp;&nbsp; Basic Broadsword<br /> VA&nbsp;
 &nbsp; Tony Wang Basic &nbsp; &nbsp;Broadsword<br /> VA&nbsp;&nbsp; Benjami
 n Thong &nbsp; &nbsp; Basic Broadsword<br /> MD&nbsp;&nbsp; Angie Sun&nbsp;
 &nbsp;&nbsp;&nbsp;&nbsp;&nbsp;&nbsp;&nbsp;&nbsp;&nbsp;&nbsp;&nbsp; Basic Sw
 ord<br /> MD&nbsp;&nbsp; Audrey Wang &nbsp; &nbsp; &nbsp; &nbsp;Basic Sword
 <br /> <br /> <strong>New Rank Ceremony</strong></p>
DTSTAMP:20260425T075204Z
DTSTART;TZID=America/New_York:20171118T131000
DTEND;TZID=America/New_York:20171118T140000
SEQUENCE:0
TRANSP:OPAQUE
END:VEVENT
END:VCALENDAR