BEGIN:VCALENDAR
VERSION:2.0
PRODID:-//jEvents 2.0 for Joomla//EN
CALSCALE:GREGORIAN
METHOD:PUBLISH
BEGIN:VTIMEZONE
TZID:America/New_York
BEGIN:STANDARD
DTSTART:20161106T010000
RDATE:20170312T030000
TZOFFSETFROM:-0400
TZOFFSETTO:-0500
TZNAME:America/New_York EST
END:STANDARD
BEGIN:STANDARD
DTSTART:20171105T010000
RDATE:20180311T030000
TZOFFSETFROM:-0400
TZOFFSETTO:-0500
TZNAME:America/New_York EST
END:STANDARD
BEGIN:STANDARD
DTSTART:20181104T010000
RDATE:20190310T030000
TZOFFSETFROM:-0400
TZOFFSETTO:-0500
TZNAME:America/New_York EST
END:STANDARD
BEGIN:STANDARD
DTSTART:20191103T010000
RDATE:20200308T030000
TZOFFSETFROM:-0400
TZOFFSETTO:-0500
TZNAME:America/New_York EST
END:STANDARD
BEGIN:STANDARD
DTSTART:20201101T010000
RDATE:20210314T030000
TZOFFSETFROM:-0400
TZOFFSETTO:-0500
TZNAME:America/New_York EST
END:STANDARD
BEGIN:STANDARD
DTSTART:20211107T010000
RDATE:20220313T030000
TZOFFSETFROM:-0400
TZOFFSETTO:-0500
TZNAME:America/New_York EST
END:STANDARD
BEGIN:STANDARD
DTSTART:20221106T010000
RDATE:20230312T030000
TZOFFSETFROM:-0400
TZOFFSETTO:-0500
TZNAME:America/New_York EST
END:STANDARD
BEGIN:STANDARD
DTSTART:20231105T010000
RDATE:20240310T030000
TZOFFSETFROM:-0400
TZOFFSETTO:-0500
TZNAME:America/New_York EST
END:STANDARD
BEGIN:STANDARD
DTSTART:20241103T010000
RDATE:20250309T030000
TZOFFSETFROM:-0400
TZOFFSETTO:-0500
TZNAME:America/New_York EST
END:STANDARD
BEGIN:STANDARD
DTSTART:20251102T010000
RDATE:20260308T030000
TZOFFSETFROM:-0400
TZOFFSETTO:-0500
TZNAME:America/New_York EST
END:STANDARD
BEGIN:STANDARD
DTSTART:20261101T010000
RDATE:20270314T030000
TZOFFSETFROM:-0400
TZOFFSETTO:-0500
TZNAME:America/New_York EST
END:STANDARD
BEGIN:STANDARD
DTSTART:20271107T010000
RDATE:20280312T030000
TZOFFSETFROM:-0400
TZOFFSETTO:-0500
TZNAME:America/New_York EST
END:STANDARD
BEGIN:STANDARD
DTSTART:20281105T010000
RDATE:20290311T030000
TZOFFSETFROM:-0400
TZOFFSETTO:-0500
TZNAME:America/New_York EST
END:STANDARD
BEGIN:DAYLIGHT
DTSTART:20161013T080000
RDATE:20161106T010000
TZOFFSETFROM:-0500
TZOFFSETTO:-0400
TZNAME:America/New_York EDT
END:DAYLIGHT
BEGIN:DAYLIGHT
DTSTART:20170312T030000
RDATE:20171105T010000
TZOFFSETFROM:-0500
TZOFFSETTO:-0400
TZNAME:America/New_York EDT
END:DAYLIGHT
BEGIN:DAYLIGHT
DTSTART:20180311T030000
RDATE:20181104T010000
TZOFFSETFROM:-0500
TZOFFSETTO:-0400
TZNAME:America/New_York EDT
END:DAYLIGHT
BEGIN:DAYLIGHT
DTSTART:20190310T030000
RDATE:20191103T010000
TZOFFSETFROM:-0500
TZOFFSETTO:-0400
TZNAME:America/New_York EDT
END:DAYLIGHT
BEGIN:DAYLIGHT
DTSTART:20200308T030000
RDATE:20201101T010000
TZOFFSETFROM:-0500
TZOFFSETTO:-0400
TZNAME:America/New_York EDT
END:DAYLIGHT
BEGIN:DAYLIGHT
DTSTART:20210314T030000
RDATE:20211107T010000
TZOFFSETFROM:-0500
TZOFFSETTO:-0400
TZNAME:America/New_York EDT
END:DAYLIGHT
BEGIN:DAYLIGHT
DTSTART:20220313T030000
RDATE:20221106T010000
TZOFFSETFROM:-0500
TZOFFSETTO:-0400
TZNAME:America/New_York EDT
END:DAYLIGHT
BEGIN:DAYLIGHT
DTSTART:20230312T030000
RDATE:20231105T010000
TZOFFSETFROM:-0500
TZOFFSETTO:-0400
TZNAME:America/New_York EDT
END:DAYLIGHT
BEGIN:DAYLIGHT
DTSTART:20240310T030000
RDATE:20241103T010000
TZOFFSETFROM:-0500
TZOFFSETTO:-0400
TZNAME:America/New_York EDT
END:DAYLIGHT
BEGIN:DAYLIGHT
DTSTART:20250309T030000
RDATE:20251102T010000
TZOFFSETFROM:-0500
TZOFFSETTO:-0400
TZNAME:America/New_York EDT
END:DAYLIGHT
BEGIN:DAYLIGHT
DTSTART:20260308T030000
RDATE:20261101T010000
TZOFFSETFROM:-0500
TZOFFSETTO:-0400
TZNAME:America/New_York EDT
END:DAYLIGHT
BEGIN:DAYLIGHT
DTSTART:20270314T030000
RDATE:20271107T010000
TZOFFSETFROM:-0500
TZOFFSETTO:-0400
TZNAME:America/New_York EDT
END:DAYLIGHT
BEGIN:DAYLIGHT
DTSTART:20280312T030000
RDATE:20281105T010000
TZOFFSETFROM:-0500
TZOFFSETTO:-0400
TZNAME:America/New_York EDT
END:DAYLIGHT
END:VTIMEZONE
BEGIN:VEVENT
UID:a518b1db04745945f3e49aedacab4b92
CATEGORIES:Testing
CREATED:20171014T000203
SUMMARY:October Rank Testin
DESCRIPTION;ENCODING=QUOTED-PRINTABLE:<p style="text-align: center;">USWA Rank Testing October 14, 2017<br />Rank
  Testing is located at the Virginia's<br />United States Wushu Academy<br /
 >2979 Prosperity Avenue, Fairfax, VA 22031<br />703-698-8182<br />Pre-Testi
 ng Rules<br />1. Check in with the testing official at least 30 minutes bef
 ore Your Scheduled time<br />2. Rank Advancement Request Form has been appr
 oved and completed<br />3. Tardy students WILL NOT ALLOW testing and will b
 e rescheduled for next month<br />4. Proper Grooming and Full Complete Clea
 n Uniform is required for testing<br />5. Students are responsible for thei
 r own warm-up and equipment</p><p>&nbsp;</p><p><strong>1:10 PM Chen Style T
 aijiquan</strong><br />VA Anastasia Martynoya &nbsp; &nbsp; &nbsp; &nbsp; C
 hen Style Taijiquan First Section</p><p><strong>Taijiquan New Rank Ceremony
 </strong></p><p><strong>1:20 PM Wushu Individual Testing</strong><br />MD W
 illiam Zhu &nbsp; &nbsp; &nbsp; &nbsp; Changquan<br />MD Joanne Li &nbsp; &
 nbsp; &nbsp; &nbsp; &nbsp; &nbsp;Changquan</p><p><strong>1:30 PM Wushu Basi
 c Testing</strong><br />VA Alvin Wang<br />MD Waley Wang<br />VA Carey Hsu<
 br />MD Albert Liu<br />MD Xzavier Torrejon<br />MD Jonathan Shan<br />VA V
 ivien Lee<br />MD Linh Le<br />MD Damiru Somaweera<br />MD Kaiden Le</p><p>
 <strong>1:45 Wushu Individual Testing</strong><br />MD William Zhu &nbsp; &
 nbsp; &nbsp; &nbsp; Staff<br />MD Joanne Li &nbsp; &nbsp; &nbsp; &nbsp; &nb
 sp; &nbsp;Staff<br />MD Kaiden Le &nbsp; &nbsp; &nbsp; &nbsp; &nbsp; &nbsp;
 Basic Form<br />MD Damiru Somaweera Basic Form<br />MD Linh Le &nbsp; &nbsp
 ; &nbsp; &nbsp; &nbsp; &nbsp; &nbsp; &nbsp;Basic Form<br />MD Jonathan Shan
  &nbsp; &nbsp;Basic Staff<br />VA Vivien Lee &nbsp; &nbsp; &nbsp; &nbsp; &n
 bsp; &nbsp; Basic Staff<br />MD Albert Liu &nbsp; &nbsp; &nbsp; &nbsp; &nbs
 p; &nbsp; &nbsp;Basic Broadsword<br />MD Xzavier Torrejon &nbsp; Basic Broa
 dsword<br />VA Carey Hsu &nbsp; &nbsp; &nbsp; &nbsp; &nbsp; &nbsp; Basic Br
 oadsword <br />MD Waley Wang &nbsp; &nbsp; &nbsp; &nbsp; Changquan<br />VA 
 Alvin Wang &nbsp; &nbsp; &nbsp; &nbsp; &nbsp; &nbsp;Sword<br />MD William Z
 hu &nbsp; &nbsp; &nbsp; &nbsp; &nbsp;Broadsword<br />MD Joanne Li &nbsp; &n
 bsp; &nbsp; &nbsp; &nbsp; &nbsp; Broadsword</p><p><strong>Wushu New Rank Ce
 remony</strong></p>
DTSTAMP:20260425T075036Z
DTSTART;TZID=America/New_York:20171014T080000
DTEND;TZID=America/New_York:20171014T170000
SEQUENCE:0
TRANSP:OPAQUE
END:VEVENT
END:VCALENDAR